BEGIN:VCALENDAR
VERSION:2.0
PRODID:-//Visit Puente Genil - ECPv6.15.20//NONSGML v1.0//EN
CALSCALE:GREGORIAN
METHOD:PUBLISH
X-ORIGINAL-URL:https://visitpuentegenil.es
X-WR-CALDESC:Eventos para Visit Puente Genil
REFRESH-INTERVAL;VALUE=DURATION:PT1H
X-Robots-Tag:noindex
X-PUBLISHED-TTL:PT1H
BEGIN:VTIMEZONE
TZID:Europe/Madrid
BEGIN:DAYLIGHT
TZOFFSETFROM:+0100
TZOFFSETTO:+0200
TZNAME:CEST
DTSTART:20240331T010000
END:DAYLIGHT
BEGIN:STANDARD
TZOFFSETFROM:+0200
TZOFFSETTO:+0100
TZNAME:CET
DTSTART:20241027T010000
END:STANDARD
BEGIN:DAYLIGHT
TZOFFSETFROM:+0100
TZOFFSETTO:+0200
TZNAME:CEST
DTSTART:20250330T010000
END:DAYLIGHT
BEGIN:STANDARD
TZOFFSETFROM:+0200
TZOFFSETTO:+0100
TZNAME:CET
DTSTART:20251026T010000
END:STANDARD
BEGIN:DAYLIGHT
TZOFFSETFROM:+0100
TZOFFSETTO:+0200
TZNAME:CEST
DTSTART:20260329T010000
END:DAYLIGHT
BEGIN:STANDARD
TZOFFSETFROM:+0200
TZOFFSETTO:+0100
TZNAME:CET
DTSTART:20261025T010000
END:STANDARD
BEGIN:DAYLIGHT
TZOFFSETFROM:+0100
TZOFFSETTO:+0200
TZNAME:CEST
DTSTART:20270328T010000
END:DAYLIGHT
BEGIN:STANDARD
TZOFFSETFROM:+0200
TZOFFSETTO:+0100
TZNAME:CET
DTSTART:20271031T010000
END:STANDARD
END:VTIMEZONE
BEGIN:VEVENT
DTSTART;TZID=Europe/Madrid:20251124T173000
DTEND;TZID=Europe/Madrid:20260103T193000
DTSTAMP:20260422T025931
CREATED:20251124T121033Z
LAST-MODIFIED:20251124T121503Z
UID:18135-1764005400-1767468600@visitpuentegenil.es
SUMMARY:#Navidad2025. Magia por “La Puente” Navideña.
DESCRIPTION:✨ Magia por “La Puente” Navideña 2025 ✨¡La ilusión vuelve a Puente Genil! Desde el 21 de noviembre hasta el 3 de enero\, los rincones más emblemáticos de nuestra localidad se llenan de actividades\, color y diversión para toda la familia. \nCada tarde\, de 17:30 a 19:30 h\, podrás disfrutar de propuestas diferentes que harán brillar la Navidad:🎨 Pinceladas Mágicas en Ágora Conchi Leiva (21 nov)🏅 Mini Olimpiadas en Plaza Emilio Reina (22 nov)🎲 Fiesta del Juego en Mirador del Genil (28 nov)🏁 Gran Prix Navideño en Plaza del Tropezón (5 dic)🍳 MasterChef Junior en Plaza Concejala Charo Prieto Escalera (12 dic)📚 Cuentos para Crear en Plaza 3 de Abril (19 dic)🌈 Explosión de Colores en Plazuela Manuel Chaparro Mansilla (26 dic)🎭 Pintacaras y Paje Real en Plaza España (3 ene) \nUn recorrido mágico lleno de creatividad\, deporte\, juegos y espíritu navideño que hará las delicias de pequeños y mayores. \nMás información Manos de Colores. 📱 686467254 \nVen\, participa y vive la Navidad como nunca.✨ Puente GeniAl enciende su Navidad ✨
URL:https://visitpuentegenil.es/evento/navidad2025-magia-por-la-puente-navidena/
LOCATION:PUENTE GENIL\, Puente Genil\, CÓRDOBA\, 14500
CATEGORIES:Actividades infantiles,Navidad
ATTACH;FMTTYPE=image/jpeg:https://visitpuentegenil.es/wp-content/uploads/2025/11/Magia-por-la-Puente-Navidena.jpg
END:VEVENT
BEGIN:VEVENT
DTSTART;TZID=Europe/Madrid:20251213T123000
DTEND;TZID=Europe/Madrid:20251214T123000
DTSTAMP:20260422T025931
CREATED:20251204T094617Z
LAST-MODIFIED:20251209T103757Z
UID:18249-1765629000-1765715400@visitpuentegenil.es
SUMMARY:Puente Genil con mucho gusto 2025. Ruta Gastro “Sabor a Puente Genil”
DESCRIPTION:PLAZAS AGOTADAS\n🍽️ ¡Vuelve la Ruta Gastro “Sabor a Puente Genil”!Los próximos 13 y 14 de diciembre\, a las 12:30 h\, disfruta de una experiencia deliciosa que combina historia\, cultura y gastronomía local en pleno corazón de Puente Genil. \nRecorre la ciudad acompañado de productos típicos\, sabores únicos y paradas llenas de esencia pontana. Una actividad perfecta para foodies\, familias\, grupos de amigos y amantes del turismo gastronómico en Puente Genil con mucho gusto 2025.¡Plazas limitadas! Reserva cuanto antes. \n📍 Punto de encuentro: Plaza Nacional ⏰12:30hℹ️ Información: turismo@aytopuentegenil.es | 957 600 853📝 Inscripciones: www.visitpuentegenil.es \nOrganiza: Ayuntamiento de Puente Genil\, Diputación de Córdoba e IPRODECO.
URL:https://visitpuentegenil.es/evento/puente-genil-con-mucho-gusto-2025-ruta-gastro-sabor-a-puente-genil/
LOCATION:Plaza Nacional\, Plaza Nacional\, Puente Genil\, Córdoba\, 14500\, España
CATEGORIES:Ruta gastro
ATTACH;FMTTYPE=image/jpeg:https://visitpuentegenil.es/wp-content/uploads/2025/12/13-14-Plazas-Agotadas-Sabor-a-Puente-Genil.jpg
END:VEVENT
END:VCALENDAR