BEGIN:VCALENDAR
VERSION:2.0
PRODID:-//Visit Puente Genil - ECPv6.15.20//NONSGML v1.0//EN
CALSCALE:GREGORIAN
METHOD:PUBLISH
X-WR-CALNAME:Visit Puente Genil
X-ORIGINAL-URL:https://visitpuentegenil.es
X-WR-CALDESC:Eventos para Visit Puente Genil
REFRESH-INTERVAL;VALUE=DURATION:PT1H
X-Robots-Tag:noindex
X-PUBLISHED-TTL:PT1H
BEGIN:VTIMEZONE
TZID:Europe/Madrid
BEGIN:DAYLIGHT
TZOFFSETFROM:+0100
TZOFFSETTO:+0200
TZNAME:CEST
DTSTART:20210328T010000
END:DAYLIGHT
BEGIN:STANDARD
TZOFFSETFROM:+0200
TZOFFSETTO:+0100
TZNAME:CET
DTSTART:20211031T010000
END:STANDARD
BEGIN:DAYLIGHT
TZOFFSETFROM:+0100
TZOFFSETTO:+0200
TZNAME:CEST
DTSTART:20220327T010000
END:DAYLIGHT
BEGIN:STANDARD
TZOFFSETFROM:+0200
TZOFFSETTO:+0100
TZNAME:CET
DTSTART:20221030T010000
END:STANDARD
BEGIN:DAYLIGHT
TZOFFSETFROM:+0100
TZOFFSETTO:+0200
TZNAME:CEST
DTSTART:20230326T010000
END:DAYLIGHT
BEGIN:STANDARD
TZOFFSETFROM:+0200
TZOFFSETTO:+0100
TZNAME:CET
DTSTART:20231029T010000
END:STANDARD
END:VTIMEZONE
BEGIN:VEVENT
DTSTART;TZID=Europe/Madrid:20220701T220000
DTEND;TZID=Europe/Madrid:20220702T000000
DTSTAMP:20260423T110105
CREATED:20220627T122046Z
LAST-MODIFIED:20220627T122129Z
UID:10540-1656712800-1656720000@visitpuentegenil.es
SUMMARY:Bacanal Teatro en #NochesEnLaVilla2022
DESCRIPTION:¡Vive experiencias únicas con #nochesenlavilla2022! 😍\n\n\n\n➡️ Esta semana en la Villa Romana de Fuente Alamo. Puente Genil  La Líquida te trae Bacanal Teatro.\n\n\nUn divertidísimo y didáctico recorrido por el origen y la historia del arte escénico\, del vino\, sus dioses y aquellas Bacantes libres que lo acompañaban. Teatro de humor y música en directo para el deleite de los sentidos.\n\n\n 📅1 Julio – ⏰ 22:00 h.\n\n\n\nHumor\, teatro\, música en directo…no te dejará indiferente. 🎭🎻\n\n\nReserva tu plaza aquí 👉 https://bit.ly/NochesenlaVilla2022\n\n\n 
URL:https://visitpuentegenil.es/evento/bacanal-teatro-en-nochesenlavilla2022/
LOCATION:Villa Romana de Fuente Álamo\, cv-297 km 3\, Puente Genil\, Córdoba\, 14500\, España
CATEGORIES:Arqueología,Humor,Teatro
ATTACH;FMTTYPE=image/jpeg:https://visitpuentegenil.es/wp-content/uploads/2022/06/1-bacanal.jpg
END:VEVENT
BEGIN:VEVENT
DTSTART;TZID=Europe/Madrid:20220702T210000
DTEND;TZID=Europe/Madrid:20220702T230000
DTSTAMP:20260423T110105
CREATED:20220628T102540Z
LAST-MODIFIED:20220628T102540Z
UID:10550-1656795600-1656802800@visitpuentegenil.es
SUMMARY:El sonido nocturno de la historia en #NochesEnLaVilla2022
DESCRIPTION:¡Ven a las #NochesEnLaVilla de #PuenteGenil!\nEl sonido nocturno de la historia te hará vivir de una forma diferente la visita a la Villa Romana de Fuente Álamo\nEcha un vistazo a nuestra programación cultural y ven a vivir experiencias únicas: teatro\, catas\, talleres…y muchos más.\n¡Te esperamos! \nInscríbete: https://bit.ly/NochesEnLaVillaInscripciones\n–  2 de julio ⏰ de 21:00 a 23:00h Sonido nocturno de la #Historia. (Visita con abono de entrada).
URL:https://visitpuentegenil.es/evento/el-sonido-nocturno-de-la-historia-en-nochesenlavilla2022/
LOCATION:Villa Romana de Fuente Álamo\, cv-297 km 3\, Puente Genil\, Córdoba\, 14500\, España
CATEGORIES:Arqueología,Visitas con audio guía
ATTACH;FMTTYPE=image/png:https://visitpuentegenil.es/wp-content/uploads/2022/06/JUL-EL-SONIDO-NOCTURNO.png
END:VEVENT
BEGIN:VEVENT
DTSTART;TZID=Europe/Madrid:20220702T213000
DTEND;TZID=Europe/Madrid:20220702T230000
DTSTAMP:20260423T110105
CREATED:20220630T112611Z
LAST-MODIFIED:20220630T122444Z
UID:10562-1656797400-1656802800@visitpuentegenil.es
SUMMARY:"Puente Genil\, la #Cataluña andaluza". #ALaLuzDeLaHistoria
DESCRIPTION:Conoce más sobre La Alianza y la revolución industrial en #PuenteGenil con “Puente Genil\, la #Cataluña andaluza”. \nUna visita guiada que te mostrará la historia de uno de los edificios que impulsó el desarrollo industrial de nuestra ciudad en los siglos XiX y XX. \n📍 La Alianza 📅 Sábado\, 2 JUL – ⏰ 21:45h \nActividad gratuita. \nInscripciones en este enlace: https://bit.ly/ALaLuzdeLaHistoria \n#patrimonioindustrial #visitasguiadas #nochesdeverano
URL:https://visitpuentegenil.es/evento/puente-genil-la-cataluna-andaluza-alaluzdelahistoria/
LOCATION:Complejo industrial La Alianza\, Plaza Nacional\, s/n\, Puente Genil\, Córdoba\, 14500\, España
ATTACH;FMTTYPE=image/png:https://visitpuentegenil.es/wp-content/uploads/2022/06/2-LA-Alianza.png
END:VEVENT
BEGIN:VEVENT
DTSTART;TZID=Europe/Madrid:20220703T220000
DTEND;TZID=Europe/Madrid:20220703T233000
DTSTAMP:20260423T110105
CREATED:20220627T124457Z
LAST-MODIFIED:20220627T124457Z
UID:10543-1656885600-1656891000@visitpuentegenil.es
SUMMARY:Fundus visita tematizada en #NochesEnLaVilla2022
DESCRIPTION:¡Vive experiencias únicas con #nochesenlavilla2022!  Esta semana en la Villa Romana de Fuente Alamo. Puente Genil: \n Fundus Visita Tematizada. La tierra como medio de vida en las grandes propiedades romanas: cultivos\, trabajos del campo\, agricultura\, ganadería en el bajo imperio…   \n\n📅3 Julio – ⏰ 22:00 h.\n\n\n\nReserva tu plaza aquí 👉 https://bit.ly/NochesenlaVilla2022
URL:https://visitpuentegenil.es/evento/fundus-visita-tematizada-en-nochesenlavilla2022/
LOCATION:Villa Romana de Fuente Álamo\, cv-297 km 3\, Puente Genil\, Córdoba\, 14500\, España
CATEGORIES:Arqueología,Visitas tematizadas
ATTACH;FMTTYPE=image/jpeg:https://visitpuentegenil.es/wp-content/uploads/2022/06/3-Fundus.jpg
END:VEVENT
BEGIN:VEVENT
DTSTART;TZID=Europe/Madrid:20220707T110000
DTEND;TZID=Europe/Madrid:20220707T123000
DTSTAMP:20260423T110105
CREATED:20220706T111740Z
LAST-MODIFIED:20220706T111740Z
UID:10608-1657191600-1657197000@visitpuentegenil.es
SUMMARY:Taller de Máscaras. #NochesEnLaVilla2022
DESCRIPTION:🎭Taller de Máscaras para niñxs en la Villa Romana de Fuente Alamo.\n¡Ponte la máscara y que comience la función!\nEl teatro era una importante forma de entretenimiento para los romanos. Y la máscara un elemento fundamental para las tragedias y comedias.\n¡Ahora puedes hacer la tuya!\n\n\nInscríbete aquí 👇 Plazas limitadas\n\n\n➡️ https://bit.ly/NochesEnLaVillaInscripciones\n\n\n\n📅7 Julio – 🎭 Taller de Máscaras Romanas. ⏰11:00 h.\n\n\n\n #NochesEnLaVilla2022
URL:https://visitpuentegenil.es/evento/taller-de-mascaras-nochesenlavilla2022/
LOCATION:Villa Romana de Fuente Álamo\, cv-297 km 3\, Puente Genil\, Córdoba\, 14500\, España
CATEGORIES:Actividades infantiles,Arqueología,Talleres
ATTACH;FMTTYPE=image/png:https://visitpuentegenil.es/wp-content/uploads/2022/07/7-TALLER-MASCARAS-ROMANAS.png
END:VEVENT
BEGIN:VEVENT
DTSTART;TZID=Europe/Madrid:20220708T220000
DTEND;TZID=Europe/Madrid:20220708T230000
DTSTAMP:20260423T110105
CREATED:20220706T113554Z
LAST-MODIFIED:20220706T115105Z
UID:10611-1657317600-1657321200@visitpuentegenil.es
SUMMARY:Yincana familiar. #NochesEnLaVilla2022
DESCRIPTION:¡Ven a la Villa Romana de Fuente Álamo con Club Marco Topo y cía! 🥰 \n\nUna 🔎yincana familiar con un recorrido didáctico y divertido por el yacimiento guiados por una App y un mapa.🗺️\n\n\n¡Ven a divertirte con tus peques! 👶\n\n\nInscríbete aquí 👇 Plazas limitadas\n\n\n➡️ https://bit.ly/NochesEnLaVillaInscripciones\n\n\n\n\n📅 8 Julio –🗺️Club Marco Topo Yincana. ⏰22:00h.\n#NochesEnLaVilla2022
URL:https://visitpuentegenil.es/evento/yincana-familiar-nochesenlavilla2022/
LOCATION:Villa Romana de Fuente Álamo\, cv-297 km 3\, Puente Genil\, Córdoba\, 14500\, España
CATEGORIES:Actividades infantiles,Arqueología,Yincana
ATTACH;FMTTYPE=image/png:https://visitpuentegenil.es/wp-content/uploads/2022/07/8-MARCO-TOPO-YINCANA.png
END:VEVENT
BEGIN:VEVENT
DTSTART;TZID=Europe/Madrid:20220715T220000
DTEND;TZID=Europe/Madrid:20220716T003000
DTSTAMP:20260423T110105
CREATED:20220704T113346Z
LAST-MODIFIED:20220704T114215Z
UID:10591-1657922400-1657931400@visitpuentegenil.es
SUMMARY:XV Festival Lírico y Sinfónico de Puente Genil.
DESCRIPTION:EL AMOR BRUJO \nEvento que contará con la presencia de la orquesta Hesperian Symphony Orchestra\, la compañía de baile flamenco de José Lucena y la solista Belén Vega. \nSe trata de una obra corta complementada con otra de las grandes obras de Manuel de Falla como es “El sombrero de tres picos”. \nEntradas a la venta al precio de 10 € y reservas 📞 617-453061. \nEn taquilla\, 12 € \n📌 Auditorio Municipal Hermanos Cuenca \n📅 Viernes\, 15 de julio\, ⏰ 22:00h
URL:https://visitpuentegenil.es/evento/xv-festival-lirico-y-sinfonico-de-puente-genil/
LOCATION:Auditorio “Hermanos Cuenca”\, Calle Pinar de San Rafael\, s/n\, Puente Genil\, Córdoba\, 14500\, España
CATEGORIES:Festival,Lírica,Música
ATTACH;FMTTYPE=image/jpeg:https://visitpuentegenil.es/wp-content/uploads/2022/07/15-El-amor-brujo.jpg
END:VEVENT
BEGIN:VEVENT
DTSTART;TZID=Europe/Madrid:20220716T220000
DTEND;TZID=Europe/Madrid:20220716T233000
DTSTAMP:20260423T110105
CREATED:20220713T081146Z
LAST-MODIFIED:20220713T081146Z
UID:10625-1658008800-1658014200@visitpuentegenil.es
SUMMARY:Taller didáctico "Luz de Verano" #ALaLuzdelaHistoria2022
DESCRIPTION:Conoce el origen de la luz en #PuenteGenil con este #taller donde además podrás crear tu propio tarro de luz e iluminar así el edificio de La Alianza en una tórrida y mágica noche de verano.\n\n\n\nTaller didáctico “Luz de Verano”\n\n\n – 📅 Sábado\, 16 de julio ⏰22:00 h.\n\n\n \n\n\n🕯✨ #alaluzdelahistoria😍\n\n\n▶️Inscripciones aquí: https://bit.ly/ALaLuzdeLaHistoria
URL:https://visitpuentegenil.es/evento/taller-didactico-luz-de-verano-alaluzdelahistoria2022/
LOCATION:Complejo industrial La Alianza\, Plaza Nacional\, s/n\, Puente Genil\, Córdoba\, 14500\, España
CATEGORIES:Actividades infantiles,Patrimonio,Patrimonio Industrial,Talleres
ATTACH;FMTTYPE=image/jpeg:https://visitpuentegenil.es/wp-content/uploads/2022/07/16-Luz-de-Verano-Alianza.jpg
END:VEVENT
BEGIN:VEVENT
DTSTART;TZID=Europe/Madrid:20220722T220000
DTEND;TZID=Europe/Madrid:20220723T003000
DTSTAMP:20260423T110105
CREATED:20220706T121723Z
LAST-MODIFIED:20220706T121723Z
UID:10614-1658527200-1658536200@visitpuentegenil.es
SUMMARY:Zarzuela. Las Leandras en Auditorio Municipal Hermanos Cuenca.
DESCRIPTION:Teatro Lírico Andaluz vuelve a Puente Genil en con una de las zarzuelas más conocidas. \nLas Leandras es una revista musical estrenada en el Teatro Pavón de Madrid en 1931\, con Celia Gámez en el papel principal. Entre el repertorio de diez canciones\, resultan especialmente recordadas “El Pichi” y “Los nardos”. \n📌Auditorio Municipal Hermanos Cuenca \n📅 Viernes\, 22 de julio\, ⏰22:00h. \nEntradas a la venta al precio de 10 euros y reservas 📞 617-453061. En taquilla\, 12 euros
URL:https://visitpuentegenil.es/evento/zarzuela-las-leandras-en-auditorio-municipal-hermanos-cuenca/
LOCATION:Auditorio “Hermanos Cuenca”\, Calle Pinar de San Rafael\, s/n\, Puente Genil\, Córdoba\, 14500\, España
CATEGORIES:Festival,Música,Zarzuela
ATTACH;FMTTYPE=image/jpeg:https://visitpuentegenil.es/wp-content/uploads/2022/07/22-zarzuela_las_leandras.jpeg
END:VEVENT
BEGIN:VEVENT
DTSTART;TZID=Europe/Madrid:20220728T110000
DTEND;TZID=Europe/Madrid:20220728T123000
DTSTAMP:20260423T110105
CREATED:20220725T101816Z
LAST-MODIFIED:20220725T101816Z
UID:10641-1659006000-1659011400@visitpuentegenil.es
SUMMARY:Taller: El perfume en la antigua Roma. #NochesEnLaVilla2022
DESCRIPTION:No te puedes perder el taller que han preparado en la Villa Romana de Fuente Álamo para que aprendas sobre la cosmética y la higiene en la antigua Roma. \nMediante la creación de ungüentos y aceites esenciales conectarás con los olores de la época romana. Unos aromas singulares que te harán viajar 2000 años atrás en el tiempo. \nEdad: 7 a 12 años. \n📌 Villa Romana Fuente Álamo \n📅 Jueves\, 28 de julio\, ⏰11:00h. \nReserva tu plaza aquí 👉 https://bit.ly/ReservasNEV2022 \n 
URL:https://visitpuentegenil.es/evento/taller-el-perfume-en-la-antigua-roma-nochesenlavilla2022/
LOCATION:Villa Romana de Fuente Álamo\, cv-297 km 3\, Puente Genil\, Córdoba\, 14500\, España
ATTACH;FMTTYPE=image/png:https://visitpuentegenil.es/wp-content/uploads/2022/07/28-TALLER-PERFUME.png
END:VEVENT
BEGIN:VEVENT
DTSTART;TZID=Europe/Madrid:20220728T223000
DTEND;TZID=Europe/Madrid:20220728T233000
DTSTAMP:20260423T110105
CREATED:20220725T085209Z
LAST-MODIFIED:20220725T085209Z
UID:10635-1659047400-1659051000@visitpuentegenil.es
SUMMARY:Animalarium. Teatro para toda la familia.
DESCRIPTION:La compañía de teatro Banánica pone en escena Animalarium\, una obra de teatro para toda la familia. \nNina\, una niña como cualquier otra que puedas conocer\, acaba de mudarse a una ciudad nueva con sus padres. Tal es la vergüenza que le provoca el hacer nuevas amistades\, que se pasa los días viendo la tele sola en su habitación. Y es que a veces se le olvida ¡hasta comer! Como le dan miedo los perros\, los gatos y todo tipo de animales… tampoco tiene la compañía de ningún animal con el que jugar. Pero un día\, de forma inesperada\, se va la luz en su casa y entonces le presta atención a un extraño libro titulado “Animalarium”. Comienza a leerlo sin darse cuenta de que acaba de abrir la puerta al mundo de la imaginación. Muy pronto recibirá la visita de unos personajes muy peculiares que habitan en ese libro. \n📌Auditorio Municipal Hermanos Cuenca \n📅Jueves\, 28 de julio\, ⏰22:30h \nEntrada libre hasta completar aforo
URL:https://visitpuentegenil.es/evento/animalarium-teatro-para-toda-la-familia/
LOCATION:Auditorio “Hermanos Cuenca”\, Calle Pinar de San Rafael\, s/n\, Puente Genil\, Córdoba\, 14500\, España
CATEGORIES:Actividades infantiles,Teatro
ATTACH;FMTTYPE=image/jpeg:https://visitpuentegenil.es/wp-content/uploads/2022/07/28-animalarium.jpeg
END:VEVENT
BEGIN:VEVENT
DTSTART;TZID=Europe/Madrid:20220729T103000
DTEND;TZID=Europe/Madrid:20220730T000000
DTSTAMP:20260423T110105
CREATED:20220725T085922Z
LAST-MODIFIED:20220725T091700Z
UID:10638-1659090600-1659139200@visitpuentegenil.es
SUMMARY:Nameless by the river. #AlaLuzdelaHistoria2022
DESCRIPTION:#AlaLuzdelaHistoria2022 te trae a Nameless en una noche mágica para disfrutar de la música en un marco incomparable como el de la Alianza. \n📌La Alianza \n📅 Jueves\, 28 de julio\, 22:30h \nPlazas limitadas. Reserva la tuya aquí 👉 https://visitpuentegenil.es/a-la-luz-de-la-historia-en-la-alianza/
URL:https://visitpuentegenil.es/evento/nameless-by-the-river-alaluzdelahistoria2022/
LOCATION:Complejo industrial La Alianza\, Plaza Nacional\, s/n\, Puente Genil\, Córdoba\, 14500\, España
CATEGORIES:Conciertos,Música
ATTACH;FMTTYPE=image/png:https://visitpuentegenil.es/wp-content/uploads/2022/07/29-ALIANZA-NAMELESS.png
END:VEVENT
BEGIN:VEVENT
DTSTART;TZID=Europe/Madrid:20220729T220000
DTEND;TZID=Europe/Madrid:20220730T000000
DTSTAMP:20260423T110105
CREATED:20220725T112748Z
LAST-MODIFIED:20220725T114158Z
UID:10647-1659132000-1659139200@visitpuentegenil.es
SUMMARY:El trompetista local Fran Rivero presenta Coincidencias.
DESCRIPTION:Fran Rivero presenta su último albúm Coincidencias en el pueblo que lo vio nacer. El trompetista estará arropado y acompañado por la Banda de Música Inmaculada Concepción y otro gran pianista pontanés como es Daniel Matas\, bajo la dirección de Jesús David Fernández. \n📌Auditorio Municipal Hermanos Cuenca \n📅 Viernes\, 29 de julio\, ⏰ #música22:00h \nLa entrada será libre y gratuita hasta completar aforo para todo aquel que quiera asistir a un gran concierto\, donde el éxito y la emoción están asegurados.
URL:https://visitpuentegenil.es/evento/el-trompetista-local-fran-rivero-presenta-coincidencias/
LOCATION:Auditorio “Hermanos Cuenca”\, Calle Pinar de San Rafael\, s/n\, Puente Genil\, Córdoba\, 14500\, España
ATTACH;FMTTYPE=image/png:https://visitpuentegenil.es/wp-content/uploads/2022/07/29-coindicencias_poster_vertical_1.png
END:VEVENT
BEGIN:VEVENT
DTSTART;TZID=Europe/Madrid:20220730T220000
DTEND;TZID=Europe/Madrid:20220731T000000
DTSTAMP:20260423T110105
CREATED:20220725T103751Z
LAST-MODIFIED:20220725T103751Z
UID:10644-1659218400-1659225600@visitpuentegenil.es
SUMMARY:La mujer en las villas romanas. #NochesEnLaVilla2022
DESCRIPTION:No te pierdas la  recreación histórica que te trae la Asociación El triunfo de Baco a la Villa Romana de Fuente Alamo. Puente Genil. \nNos acercarán a las vidas de las mujeres que habitaban las villas de la antigua Baetica\, sus clases sociales y los distintos papeles que desempeñaban. Desde las matronas o dueñas hasta las sirvientas\, esclavas\, parteras\, médicas …\nSe expondrán las zonas concretas dónde ejercían sus funciones de mujer\, esposa o madre\, así como las destinadas al servicio de la casa.\n\n📌 Villa Romana Fuente Álamo \n📅 Sábado\, 30 de julio\, ⏰22:00h. \nReserva tu plaza aquí 👉 https://bit.ly/ReservasNEV2022
URL:https://visitpuentegenil.es/evento/la-mujer-en-las-villas-romanas-nochesenlavilla2022/
LOCATION:Villa Romana de Fuente Álamo\, cv-297 km 3\, Puente Genil\, Córdoba\, 14500\, España
CATEGORIES:Arqueología,Mujer,Recreación histórica
ATTACH;FMTTYPE=image/png:https://visitpuentegenil.es/wp-content/uploads/2022/07/30-LA-MUJER-EN-LA-HISTORIA.png
END:VEVENT
END:VCALENDAR