BEGIN:VCALENDAR
VERSION:2.0
PRODID:-//Visit Puente Genil - ECPv6.15.20//NONSGML v1.0//EN
CALSCALE:GREGORIAN
METHOD:PUBLISH
X-WR-CALNAME:Visit Puente Genil
X-ORIGINAL-URL:https://visitpuentegenil.es
X-WR-CALDESC:Eventos para Visit Puente Genil
REFRESH-INTERVAL;VALUE=DURATION:PT1H
X-Robots-Tag:noindex
X-PUBLISHED-TTL:PT1H
BEGIN:VTIMEZONE
TZID:Europe/Madrid
BEGIN:DAYLIGHT
TZOFFSETFROM:+0100
TZOFFSETTO:+0200
TZNAME:CEST
DTSTART:20210328T010000
END:DAYLIGHT
BEGIN:STANDARD
TZOFFSETFROM:+0200
TZOFFSETTO:+0100
TZNAME:CET
DTSTART:20211031T010000
END:STANDARD
BEGIN:DAYLIGHT
TZOFFSETFROM:+0100
TZOFFSETTO:+0200
TZNAME:CEST
DTSTART:20220327T010000
END:DAYLIGHT
BEGIN:STANDARD
TZOFFSETFROM:+0200
TZOFFSETTO:+0100
TZNAME:CET
DTSTART:20221030T010000
END:STANDARD
BEGIN:DAYLIGHT
TZOFFSETFROM:+0100
TZOFFSETTO:+0200
TZNAME:CEST
DTSTART:20230326T010000
END:DAYLIGHT
BEGIN:STANDARD
TZOFFSETFROM:+0200
TZOFFSETTO:+0100
TZNAME:CET
DTSTART:20231029T010000
END:STANDARD
END:VTIMEZONE
BEGIN:VEVENT
DTSTART;TZID=Europe/Madrid:20220902T210000
DTEND;TZID=Europe/Madrid:20220903T210000
DTSTAMP:20260423T045609
CREATED:20220829T102816Z
LAST-MODIFIED:20220829T102816Z
UID:10698-1662152400-1662238800@visitpuentegenil.es
SUMMARY:Vuelve el programa "A la luz de la Historia" en #LaAlianza.
DESCRIPTION: Vuelve el programa “A la luz de la Historia” en el complejo industrial de #LaAlianza después del parón del mes de agosto.\nEste fin de semana puedes disfrutar el viernes 2 de septiembre de la apertura nocturna y el sábado habrá actividades deportivas de multiaventua a cargo del Grupo de Actividades en la Naturaleza.\n¡No te lo puedes perder!\n 2 Sept. Entrada libre de 21:00 a 23:00 h.\n 3 Sept. #Multiaventuras con Grupo Actividades Naturaleza. 21:00 h.\nHaz tu reserva 👉 AQUÍ y no te quedes sin tu plaza:  #patrimonioIndustrial
URL:https://visitpuentegenil.es/evento/vuelve-el-programa-a-la-luz-de-la-historia-en-laalianza/
LOCATION:Complejo industrial La Alianza\, Plaza Nacional\, s/n\, Puente Genil\, Córdoba\, 14500\, España
CATEGORIES:Actividades infantiles,Multiaventura,Patrimonio,Patrimonio Industrial,Turismo Activo
ATTACH;FMTTYPE=image/png:https://visitpuentegenil.es/wp-content/uploads/2022/08/3-GAN-ALIANZA.png
END:VEVENT
BEGIN:VEVENT
DTSTART;TZID=Europe/Madrid:20220903T210000
DTEND;TZID=Europe/Madrid:20220903T230000
DTSTAMP:20260423T045609
CREATED:20220830T091118Z
LAST-MODIFIED:20220830T091118Z
UID:10707-1662238800-1662246000@visitpuentegenil.es
SUMMARY:Objetos que cuentan historias. #NochesEnLaVilla2022
DESCRIPTION:Objetos que cuentan historias #recreación \nConferencia que da vida a elementos que hoy contemplamos en museos pero que en la antigüedad tenían una función\, muchas veces de marcado carácter simbólico\, mágico o religioso y eran de uso cotidiano.\n\n Sábado\, 3 septiembre.  ⏰21:00 h\n Villa Romana de Fuente Álamo \nHaz tu inscripción ya: https://bit.ly/3z0f0o6\n¡No te quedes sin tu plaza!  \n#nochesenlavilla2022 #cultura #historia
URL:https://visitpuentegenil.es/evento/objetos-que-cuentan-historias-nochesenlavilla2022/
LOCATION:Villa Romana de Fuente Álamo\, cv-297 km 3\, Puente Genil\, Córdoba\, 14500\, España
CATEGORIES:Arqueología,Conferencia,Recreación histórica
ATTACH;FMTTYPE=image/png:https://visitpuentegenil.es/wp-content/uploads/2022/08/3-NEV-22-objetos-que-cuentan-historias-1.png
END:VEVENT
BEGIN:VEVENT
DTSTART;TZID=Europe/Madrid:20220904T210000
DTEND;TZID=Europe/Madrid:20220904T230000
DTSTAMP:20260423T045609
CREATED:20220830T114500Z
LAST-MODIFIED:20220830T114500Z
UID:10713-1662325200-1662332400@visitpuentegenil.es
SUMMARY:El Sonido Nocturno de la Historia. #NochesEnLaVilla2022
DESCRIPTION:El Sonido Nocturno de la Historia \n Descubre el encanto y la historia que guarda la Villa Romana de Fuente Álamo  al caer la noche. \n¡Un lugar mágico que no te dejará indiferente!  \n📍 Villa Romana de Fuente Álamo \n📅 Domingo\, 4 de septiembre. ⏰ de 21:00 a 23:00h. \n+Info: 957 60 50 34 Ext. 380 / puentegenil@tuhistoria.org \n#nochesenlavilla2022 #cultura #historia #PuenteGenil
URL:https://visitpuentegenil.es/evento/el-sonido-nocturno-de-la-historia-nochesenlavilla2022-2/
LOCATION:Villa Romana de Fuente Álamo\, cv-297 km 3\, Puente Genil\, Córdoba\, 14500\, España
ATTACH;FMTTYPE=image/png:https://visitpuentegenil.es/wp-content/uploads/2022/08/4-NEV-22-sonido-nocturno.png
END:VEVENT
BEGIN:VEVENT
DTSTART;TZID=Europe/Madrid:20220911T210000
DTEND;TZID=Europe/Madrid:20220911T210000
DTSTAMP:20260423T045609
CREATED:20220906T120235Z
LAST-MODIFIED:20220906T120235Z
UID:10731-1662930000-1662930000@visitpuentegenil.es
SUMMARY:El comercio en la antigua Roma. #NochesEnLaVilla2022
DESCRIPTION:Cerramos el programa de #nochesenlavilla2022 con la visita de Marco Julio Hermesiano que viene a la Villa Romana de Fuente Alamo. Puente Genil para llevarse el mejor aceite de toda la Bética Romana… \n¿Te lo vas a perder? ¡Haz tu inscripción aquí: https://bit.ly/3z0f0o6!\n Visita + teatralización: “El comercio en la Antigua Roma”.\nDomingo\, 11 de septiembre  21:00 h.
URL:https://visitpuentegenil.es/evento/el-comercio-en-la-antigua-roma-nochesenlavilla2022/
LOCATION:Villa Romana de Fuente Álamo\, cv-297 km 3\, Puente Genil\, Córdoba\, 14500\, España
CATEGORIES:Arqueología,Visitas teatralizadas
ATTACH;FMTTYPE=image/png:https://visitpuentegenil.es/wp-content/uploads/2022/09/11-Comercio-en-la-antigua-Roma.png
END:VEVENT
BEGIN:VEVENT
DTSTART;TZID=Europe/Madrid:20220917T213000
DTEND;TZID=Europe/Madrid:20220917T233000
DTSTAMP:20260423T045609
CREATED:20220901T114324Z
LAST-MODIFIED:20220901T114324Z
UID:10719-1663450200-1663457400@visitpuentegenil.es
SUMMARY:Alma andaluza
DESCRIPTION:Concierto dedicado a Federico García Lorca con la participación de José Manuel Cuenca\, pianista; María Galiana\, actriz; Luis Santana\, barítono y Almudena Roca\, bailarina. \nEl amor de Federico a Andalucía en el 90 aniversario de la fundación de La Barraca\, grupo de teatro ambulante y popular que tenía como objetivo llevar la actividad cultural a diferentes zonas de nuestro país. \nEntrada libre hasta completar aforo \n📌 Auditorio Hermanos Cuenca \n📅 Sábado\, 17 de septiembre\, ⏰ 21:30h \nOrganiza: Ayuntamiento de Puente Genil \nPatrocina: Diputación de Córdoba
URL:https://visitpuentegenil.es/evento/alma-andaluza/
LOCATION:Auditorio “Hermanos Cuenca”\, Calle Pinar de San Rafael\, s/n\, Puente Genil\, Córdoba\, 14500\, España
CATEGORIES:Conciertos
ATTACH;FMTTYPE=image/jpeg:https://visitpuentegenil.es/wp-content/uploads/2022/09/17-Alma-Andaluza.jpeg
END:VEVENT
BEGIN:VEVENT
DTSTART;TZID=Europe/Madrid:20220918T100000
DTEND;TZID=Europe/Madrid:20220918T113000
DTSTAMP:20260423T045609
CREATED:20220830T095837Z
LAST-MODIFIED:20220830T113157Z
UID:10710-1663495200-1663500600@visitpuentegenil.es
SUMMARY:Presentada la XXIV Subida a Cordobilla.
DESCRIPTION:El próximo 18 de septiembre tienes una cita con la vigésimo cuarta edición de la Carrera Subida a Cordobilla. \nOrganizada por el  Club de Atletismo Pontanés Amigos del Canal \, la prueba partirá de la Plaza del Ancla a las diez de la mañana\, con un recorrido aproximado de 8 kms. \nSubvencionada por la Diputación de Córdoba y con la colaboración del Ayuntamiento de Puente Genil\, a través de su delegación municipal de Deportes esta prueba cuenta también con el apoyo del Club Cicloturista Pontanés\, el Club BTT\, Policía Local y Guardia Civil\, así como distintas firmas colaboradoras. \nLos corredores también colaborarán con Cáritas  al entregar productos no perecederos en la recogida de dorsales el día de la prueba\, llevando a ser posible leche y gel de ducha. \nLas inscripciones para los no socios podrán realizarse desde el día 5 al 12 de septiembre en Silverback SBC Puente Genil\, al precio de 8€. \nEntrega de dorsales el mismo día de la carrera hasta las⏰9:30h. \nY ya sabes\, si no puedes correr siempre puedes venir a animar a quienes corren. ¡Os esperamos!
URL:https://visitpuentegenil.es/evento/presentada-la-xxiv-subida-a-cordobilla/
LOCATION:Córdoba
CATEGORIES:Atletismo,Carreras populares,Deportes
ATTACH;FMTTYPE=image/jpeg:https://visitpuentegenil.es/wp-content/uploads/2022/08/18-XXIV-SUBIDA-A-CORDOBILLA.jpeg
ORGANIZER;CN="Club Atletismo Amigos del Canal":MAILTO:clubamigosdelcanal@gmail.com
END:VEVENT
BEGIN:VEVENT
DTSTART;TZID=Europe/Madrid:20220924T080000
DTEND;TZID=Europe/Madrid:20220924T170000
DTSTAMP:20260423T045609
CREATED:20220901T091456Z
LAST-MODIFIED:20220901T091456Z
UID:10716-1664006400-1664038800@visitpuentegenil.es
SUMMARY:Tributo al Maestro de Julián Estrada.
DESCRIPTION:El cantaor pontanés Julián Estrada presenta su nuevo trabajo discográfico con letras escritas por nuestra “Llave de Oro del Cante\,” Antonio Fernández Díaz “Fosforito.” \n📍 Auditorio Hermanos Cuenca \n📅 Sábado\, 24 de septiembre\, ⏰21:00h \nLa entrada para presenciar este evento se puede adquirir de manera gratuita por invitación (hasta completar aforo) a partir del jueves\, 1 de septiembre\, en la Casa Ciudadana y en el teléfono 957-609161
URL:https://visitpuentegenil.es/evento/tributo-al-maestro-de-julian-estrada/
LOCATION:Auditorio “Hermanos Cuenca”\, Calle Pinar de San Rafael\, s/n\, Puente Genil\, Córdoba\, 14500\, España
CATEGORIES:Conciertos,Flamenco
ATTACH;FMTTYPE=image/jpeg:https://visitpuentegenil.es/wp-content/uploads/2022/09/24-tributo-al-maestro-Julian-Estrada.jpeg
END:VEVENT
END:VCALENDAR