BEGIN:VCALENDAR
VERSION:2.0
PRODID:-//Visit Puente Genil - ECPv6.15.20//NONSGML v1.0//EN
CALSCALE:GREGORIAN
METHOD:PUBLISH
X-WR-CALNAME:Visit Puente Genil
X-ORIGINAL-URL:https://visitpuentegenil.es
X-WR-CALDESC:Eventos para Visit Puente Genil
REFRESH-INTERVAL;VALUE=DURATION:PT1H
X-Robots-Tag:noindex
X-PUBLISHED-TTL:PT1H
BEGIN:VTIMEZONE
TZID:Europe/Madrid
BEGIN:DAYLIGHT
TZOFFSETFROM:+0100
TZOFFSETTO:+0200
TZNAME:CEST
DTSTART:20210328T010000
END:DAYLIGHT
BEGIN:STANDARD
TZOFFSETFROM:+0200
TZOFFSETTO:+0100
TZNAME:CET
DTSTART:20211031T010000
END:STANDARD
BEGIN:DAYLIGHT
TZOFFSETFROM:+0100
TZOFFSETTO:+0200
TZNAME:CEST
DTSTART:20220327T010000
END:DAYLIGHT
BEGIN:STANDARD
TZOFFSETFROM:+0200
TZOFFSETTO:+0100
TZNAME:CET
DTSTART:20221030T010000
END:STANDARD
BEGIN:DAYLIGHT
TZOFFSETFROM:+0100
TZOFFSETTO:+0200
TZNAME:CEST
DTSTART:20230326T010000
END:DAYLIGHT
BEGIN:STANDARD
TZOFFSETFROM:+0200
TZOFFSETTO:+0100
TZNAME:CET
DTSTART:20231029T010000
END:STANDARD
END:VTIMEZONE
BEGIN:VEVENT
DTSTART;TZID=Europe/Madrid:20220904T210000
DTEND;TZID=Europe/Madrid:20220904T230000
DTSTAMP:20260423T094103
CREATED:20220830T114500Z
LAST-MODIFIED:20220830T114500Z
UID:10713-1662325200-1662332400@visitpuentegenil.es
SUMMARY:El Sonido Nocturno de la Historia. #NochesEnLaVilla2022
DESCRIPTION:El Sonido Nocturno de la Historia \n Descubre el encanto y la historia que guarda la Villa Romana de Fuente Álamo  al caer la noche. \n¡Un lugar mágico que no te dejará indiferente!  \n📍 Villa Romana de Fuente Álamo \n📅 Domingo\, 4 de septiembre. ⏰ de 21:00 a 23:00h. \n+Info: 957 60 50 34 Ext. 380 / puentegenil@tuhistoria.org \n#nochesenlavilla2022 #cultura #historia #PuenteGenil
URL:https://visitpuentegenil.es/evento/el-sonido-nocturno-de-la-historia-nochesenlavilla2022-2/
LOCATION:Villa Romana de Fuente Álamo\, cv-297 km 3\, Puente Genil\, Córdoba\, 14500\, España
ATTACH;FMTTYPE=image/png:https://visitpuentegenil.es/wp-content/uploads/2022/08/4-NEV-22-sonido-nocturno.png
END:VEVENT
END:VCALENDAR