BEGIN:VCALENDAR
VERSION:2.0
PRODID:-//Visit Puente Genil - ECPv6.15.20//NONSGML v1.0//EN
CALSCALE:GREGORIAN
METHOD:PUBLISH
X-ORIGINAL-URL:https://visitpuentegenil.es
X-WR-CALDESC:Eventos para Visit Puente Genil
REFRESH-INTERVAL;VALUE=DURATION:PT1H
X-Robots-Tag:noindex
X-PUBLISHED-TTL:PT1H
BEGIN:VTIMEZONE
TZID:Europe/Madrid
BEGIN:DAYLIGHT
TZOFFSETFROM:+0100
TZOFFSETTO:+0200
TZNAME:CEST
DTSTART:20220327T010000
END:DAYLIGHT
BEGIN:STANDARD
TZOFFSETFROM:+0200
TZOFFSETTO:+0100
TZNAME:CET
DTSTART:20221030T010000
END:STANDARD
BEGIN:DAYLIGHT
TZOFFSETFROM:+0100
TZOFFSETTO:+0200
TZNAME:CEST
DTSTART:20230326T010000
END:DAYLIGHT
BEGIN:STANDARD
TZOFFSETFROM:+0200
TZOFFSETTO:+0100
TZNAME:CET
DTSTART:20231029T010000
END:STANDARD
BEGIN:DAYLIGHT
TZOFFSETFROM:+0100
TZOFFSETTO:+0200
TZNAME:CEST
DTSTART:20240331T010000
END:DAYLIGHT
BEGIN:STANDARD
TZOFFSETFROM:+0200
TZOFFSETTO:+0100
TZNAME:CET
DTSTART:20241027T010000
END:STANDARD
END:VTIMEZONE
BEGIN:VEVENT
DTSTART;TZID=Europe/Madrid:20230804T220000
DTEND;TZID=Europe/Madrid:20230804T233000
DTSTAMP:20260420T032356
CREATED:20230731T101456Z
LAST-MODIFIED:20230731T101611Z
UID:12414-1691186400-1691191800@visitpuentegenil.es
SUMMARY:El divino placer del agua. #NochesenlaVilla2023
DESCRIPTION:Continúan las actividades de #NochesEnLaVilla2023 en este primer fin de semana de agosto. \n“El divino placer del agua” es una visita guiada tematizada\, que se enfoca especialmente en la zona del Balneum en el yacimiento arqueológico de Fuente Álamo: con sus piscinas escalonadas y estanques.\nEl agua como fuente de vida\, descubre por qué el agua era un elemento sagrado y la primera razón del establecimiento de los romanos en el yacimiento. \n📌 Villa Romana de Fuente Álamo.\n📅 Viernes\, 4 de agosto.\n⏰ 22:00h \nPlazas limitadas ¡Reserva la tuya 👉👉aquí.!  \nMás información ☎️ 957605034 ext 380-388 \n 
URL:https://visitpuentegenil.es/evento/el-divino-placer-del-agua-nochesenlavilla2023/
LOCATION:Villa Romana de Fuente Álamo\, cv-297 km 3\, Puente Genil\, Córdoba\, 14500\, España
CATEGORIES:Arqueología,Visitas guiadas,Visitas tematizadas
ATTACH;FMTTYPE=image/png:https://visitpuentegenil.es/wp-content/uploads/2023/07/DIVINO-PLACER-DEL-AGUA-4-AGOSTO.png
END:VEVENT
BEGIN:VEVENT
DTSTART;TZID=Europe/Madrid:20230805T220000
DTEND;TZID=Europe/Madrid:20230805T233000
DTSTAMP:20260420T032356
CREATED:20230731T093556Z
LAST-MODIFIED:20230731T093809Z
UID:12407-1691272800-1691278200@visitpuentegenil.es
SUMMARY:Ven a reír con "De perdidos a Rio" en el Cine de Verano.
DESCRIPTION:Este sábado tienes una cita con la comedia más gamberra en el Cine de Verano del Auditorio Hermanos Cuenca en Los Pino. \nDE PERDIDOS A RÍO \nSinopsis\nPedro\, Kiko y David\, tres amigos en sus treinta y tantos largos\, viajan a Río de Janeiro para recoger el cuerpo sin vida de Mateo\, su mejor amigo del instituto\, quien ha muerto en extrañas circunstancias. Pero al llegar a Brasil nada es lo que parece. Mateo\, “el muerto” ha huido\, su casa está patas arriba y una de sus ex-novias lo busca desesperadamente.\n📌 Auditorio Hermanos Cuenca.\n📅 Sábado\, 5 de agosto.\n⏰ 22:00h\n🎟 5€\n👉Compra las entradas aquí.
URL:https://visitpuentegenil.es/evento/ven-a-reir-con-de-perdidos-a-rio-en-el-cine-de-verano/
LOCATION:Auditorio “Hermanos Cuenca”\, Calle Pinar de San Rafael\, s/n\, Puente Genil\, Córdoba\, 14500\, España
CATEGORIES:cine,Cine de Verano
ATTACH;FMTTYPE=image/jpeg:https://visitpuentegenil.es/wp-content/uploads/2023/07/5-PerdidosRio.jpg
END:VEVENT
BEGIN:VEVENT
DTSTART;TZID=Europe/Madrid:20230806T203000
DTEND;TZID=Europe/Madrid:20230806T230000
DTSTAMP:20260420T032356
CREATED:20230731T111745Z
LAST-MODIFIED:20230731T111745Z
UID:12422-1691353800-1691362800@visitpuentegenil.es
SUMMARY:El sonido nocturno de la historia. #NochesEnLaVilla2023.
DESCRIPTION:De nuevo una oportunidad más de visitar el yacimiento arqueológico de Fuente Álamo al anochecer. No es frecuente la apertura nocturna de sitios arqueológicos en España. Fuente Álamo brinda una oportunidad única de visita cuando cae la noche y los habitantes del yacimiento duermen. \nBien de forma individual\, mediante un recorrido audio guiado o en grupo con la ayuda de un guía\, descubrirás un modo diferente de acercarte al pasado mientras escuchas los sonidos nocturnos de la historia. \n📌 Villa romana de Fuente Álamo.\n📅 Domingo\, 6 de agosto.\n⏰ 20:30 a 23:00h\nPlazas limitadas. Reserva la tuya 👉👉aquí \nMás info ☎️ 957605034 ext 380-388 \n 
URL:https://visitpuentegenil.es/evento/el-sonido-nocturno-de-la-historia-nochesenlavilla2023-2/
LOCATION:Villa Romana de Fuente Álamo\, cv-297 km 3\, Puente Genil\, Córdoba\, 14500\, España
CATEGORIES:Arqueología,Patrimonio,Visitas con audio guía
ATTACH;FMTTYPE=image/png:https://visitpuentegenil.es/wp-content/uploads/2023/07/SONIDO-NOCTURNO-6-AGOSTO.png
END:VEVENT
BEGIN:VEVENT
DTSTART;TZID=Europe/Madrid:20230807T220000
DTEND;TZID=Europe/Madrid:20230807T233000
DTSTAMP:20260420T032356
CREATED:20230801T102451Z
LAST-MODIFIED:20230801T102451Z
UID:12432-1691445600-1691451000@visitpuentegenil.es
SUMMARY:"Megalodón 2: la fosa\," en el Cine de Verano.
DESCRIPTION:¡Ven a morderte las uñas con Megalodón 2 al #CinedeVerano este lunes! \nMEGADOLÓN 2: LA FOSA \nSinopsis \nUn equipo de investigación inicia una misión que va a explorar las profundidades más abismales del mar. Pero su viaje se convierte en caos cuando un malévolo operativo minero amenaza su misión y los obliga a librar una batalla de alto riesgo por la supervivencia. Enfrentados a colosales Megalodones y a implacables saqueadores medioambientales\, nuestros héroes deben correr más rápido\, ser más astutos y nadar a mayor velocidad que sus despiadados depredadores en una trepidante carrera contra el tiempo. Secuela de ‘The Meg.’\n\n\n📌 Auditorio Hermanos Cuenca.\n📅 Lunes\, 7 de agosto.\n⏰ 22:00h\n🎟 5€\n👉Compra las entradas aquí.
URL:https://visitpuentegenil.es/evento/megalodon-2-la-fosa-en-el-cine-de-verano/
LOCATION:Auditorio “Hermanos Cuenca”\, Calle Pinar de San Rafael\, s/n\, Puente Genil\, Córdoba\, 14500\, España
CATEGORIES:cine,Cine de Verano
ATTACH;FMTTYPE=image/jpeg:https://visitpuentegenil.es/wp-content/uploads/2023/08/Megalodon2.jpeg
END:VEVENT
BEGIN:VEVENT
DTSTART;TZID=Europe/Madrid:20230815T223000
DTEND;TZID=Europe/Madrid:20230816T010000
DTSTAMP:20260420T032356
CREATED:20230803T105617Z
LAST-MODIFIED:20230803T111842Z
UID:12448-1692138600-1692147600@visitpuentegenil.es
SUMMARY:Noche de copla en la #FeriaReal2023.
DESCRIPTION:El martes 15 de agosto tienes una cita con la mejor copla en la #FeriaReal2023 de #PuenteGenil. \nLa Noche de copla contará con la participación de Erika Leiva – concursante de la primera edición del programa Se llama copla de Canal Sur –  y la de los artistas locales: Carmen Cabezas\, Inma Palomo\, Daniel Matas y Fran Rivero. \n¡Ven a disfrutar de la mejor copla con nosotros! ¡Ven a la feria!💃🕺 \n#FeriaRealPuenteGenil2023 \n📌 Caseta Municipal\n📅 Martes\, 15 de agosto.\n⏰ 22:30h\nEntrada libre hasta completar aforo.
URL:https://visitpuentegenil.es/evento/noche-de-copla-en-la-feriareal2023/
LOCATION:Caseta Municipal Puente Genil\, Puente Genil\, Córdoba\, 14500
CATEGORIES:Conciertos,Feria Real
ATTACH;FMTTYPE=image/jpeg:https://visitpuentegenil.es/wp-content/uploads/2023/08/15-Copla.jpg
END:VEVENT
BEGIN:VEVENT
DTSTART;TZID=Europe/Madrid:20230817T223000
DTEND;TZID=Europe/Madrid:20230818T010000
DTSTAMP:20260420T032356
CREATED:20230803T114156Z
LAST-MODIFIED:20230803T121909Z
UID:12454-1692311400-1692320400@visitpuentegenil.es
SUMMARY:Seguridad Social en la #FeriaReal2023.
DESCRIPTION:¿Quién no ha tarareado\, y sigue haciéndolo\, canciones como: Chiquilla\, Quiero tener tu presencia\,  Comerranas\, Acuarela\, Mi rumba tarumba… Y un montón más de canciones que forman parte de nuestra historia? \n¡Ven a celebrar y bailar con Seguridad Social sus 40 años sobre los escenarios a la #FeriaRealPuenteGenil2023! \n#feriarealpuentegenil2023\n📌 Caseta Municipal\n📅 Jueves\, 17 de agosto.\n⏰ 22:30h\n🎟 5€ (4€ + 1€ solidario para Disgenil) \nA la venta en Disgenil y en la Casa Ciudadana.\nMás info 📞 957609161
URL:https://visitpuentegenil.es/evento/seguridad-social-en-la-feriareal2023/
LOCATION:Caseta Municipal Puente Genil\, Puente Genil\, Córdoba\, 14500
CATEGORIES:Conciertos,Feria Real
ATTACH;FMTTYPE=image/jpeg:https://visitpuentegenil.es/wp-content/uploads/2023/08/17-Seguridad-Social.jpg
END:VEVENT
BEGIN:VEVENT
DTSTART;TZID=Europe/Madrid:20230819T223000
DTEND;TZID=Europe/Madrid:20230820T020000
DTSTAMP:20260420T032356
CREATED:20230804T102118Z
LAST-MODIFIED:20230804T102411Z
UID:12469-1692484200-1692496800@visitpuentegenil.es
SUMMARY:"No me pises que llevo chanclas" en la #FeriaReal2023.
DESCRIPTION:Como colofón el sábado 19 de agosto clausurarán la #FeriaRealPuenteGenil2023 la banda de versiones malagueña Miss Gin  como teloneros de los “No me pises que llevo chanclas” que nos hará bailar a ritmo de su agropop hasta que el cuerpo aguante. \n¡No te los puedes perder! \n#feriarealpuentegenil2023\n📌 Caseta Municipal\n📅 Sábado\, 19 de agosto.\n⏰ 22:30h\n🎟 5€ (4€ + 1€ solidario para Disgenil)\nA la venta en Disgenil y en la Casa Ciudadana.\nMás info 📞 957609161  \n  \n 
URL:https://visitpuentegenil.es/evento/no-me-pises-que-llevo-chanclas-en-la-feriareal2023/
LOCATION:Caseta Municipal Puente Genil\, Puente Genil\, Córdoba\, 14500
CATEGORIES:Conciertos,Feria Real
ATTACH;FMTTYPE=image/jpeg:https://visitpuentegenil.es/wp-content/uploads/2023/08/19-No-me-pises-que-llevo-chanclas.jpg
END:VEVENT
BEGIN:VEVENT
DTSTART;TZID=Europe/Madrid:20230824T220000
DTEND;TZID=Europe/Madrid:20230824T233000
DTSTAMP:20260420T032356
CREATED:20230823T085119Z
LAST-MODIFIED:20230823T085119Z
UID:12493-1692914400-1692919800@visitpuentegenil.es
SUMMARY:Lightyear en el Cine de Verano del Auditorio.
DESCRIPTION: ¿Tienes planes para estas noches tan calurosas?\n\nVen a ver al cine de verano “Lightyear\,” una peli para todos los públicos\, producida por Pixar y que presenta el origen  de Buzz Lightyear\, el héroe que inspiró el juguete\, presentando al legendario Guardián Espacial que ganaría generaciones de fanáticos.\n\n\n\n📌 Auditorio Hermanos Cuenca.\n📅 Jueves\, 24 de agosto.\n⏰ 22:00h\n🎟 Entrada gratuita hasta completar aforo.\n\n\n\n Os dejamos la programación del Cine de Verano hasta el 31 de agosto.
URL:https://visitpuentegenil.es/evento/lightyear-en-el-cine-de-verano-del-auditorio/
LOCATION:Auditorio “Hermanos Cuenca”\, Calle Pinar de San Rafael\, s/n\, Puente Genil\, Córdoba\, 14500\, España
ATTACH;FMTTYPE=image/jpeg:https://visitpuentegenil.es/wp-content/uploads/2023/08/24-LIGHTYEAR.jpg
ORGANIZER;CN="Cortogenial":MAILTO:info@cortogenial.org
END:VEVENT
BEGIN:VEVENT
DTSTART;TZID=Europe/Madrid:20230825T220000
DTEND;TZID=Europe/Madrid:20230825T233000
DTSTAMP:20260420T032356
CREATED:20230821T090330Z
LAST-MODIFIED:20230821T090330Z
UID:12479-1693000800-1693006200@visitpuentegenil.es
SUMMARY:El mundo de los mosaicos. #NochesEnLaVilla2023
DESCRIPTION:Este viernes ven a la visita tematizada y conoce mejor los mosaicos de la Villa Romana de Fuente Álamo de la mano de un guía anfitrión con #NochesEnLaVilla2023. \nDisfrutaremos de un recorrido centrado en la gran colección de mosaicos que tiene el yacimiento y las historias descubiertas a través de las interpretaciones y estudios académicos de este bien de lujo\, reflejo de poder y riqueza en la antigua Roma. \nEl Mundo de los #Mosaicos – Visita tematizada. \n📌Villa Romana de Fuente Álamo\n📅Viernes\, 25 de agosto.\n⏰22:00h\nMás info📞957605034 ext 380-388 📧 puentegenil@ciudadesmedias.org \nReserva tu plaza aquí: https://fuentealamovillaromana.es/formulario-de…/ \n 
URL:https://visitpuentegenil.es/evento/el-mundo-de-los-mosaicos-nochesenlavilla2023/
LOCATION:Villa Romana de Fuente Álamo\, cv-297 km 3\, Puente Genil\, Córdoba\, 14500\, España
ATTACH;FMTTYPE=image/png:https://visitpuentegenil.es/wp-content/uploads/2023/08/VISITA-TEMATIZADA-25-AGOSTO.png
END:VEVENT
BEGIN:VEVENT
DTSTART;TZID=Europe/Madrid:20230826T203000
DTEND;TZID=Europe/Madrid:20230826T233000
DTSTAMP:20260420T032356
CREATED:20230821T092139Z
LAST-MODIFIED:20230824T083939Z
UID:12483-1693081800-1693092600@visitpuentegenil.es
SUMMARY:Escape room. #NochesEnLaVilla2023
DESCRIPTION:Un grupo de malhechores han entrado en la Villa Romana de Fuente Alamo. Puente Genil en mitad de la noche\, desactivando la alarma y apagando las cámaras de seguridad. Por casaualidad un trabajador descubre la situación y activa alguna de las cámaras de seguridad avisando a la policía. Los ladrones huyen no sin dejar algunos indicios… \n¿Te atreves a resolver que ocurrió? #escaperoom  \n ¡Ven y descubre el misterio en Noches en la Villa! \n📌Villa Romana de Fuente Álamo\n📅Sábado\, 26 de agosto.\n⏰Dos pases 20:30h y 22:00h\nMás info📞957605034 ext 380-388 📧 puentegenil@ciudadesmedias.org \n 
URL:https://visitpuentegenil.es/evento/escape-room-nochesenlavilla2023/
LOCATION:Villa Romana de Fuente Álamo\, cv-297 km 3\, Puente Genil\, Córdoba\, 14500\, España
CATEGORIES:Arqueología,Escape Room
ATTACH;FMTTYPE=image/jpeg:https://visitpuentegenil.es/wp-content/uploads/2023/08/26-Escape-room-PLAZAS-AGOTADAS.jpg
END:VEVENT
BEGIN:VEVENT
DTSTART;TZID=Europe/Madrid:20230826T220000
DTEND;TZID=Europe/Madrid:20230826T233000
DTSTAMP:20260420T032356
CREATED:20230823T094807Z
LAST-MODIFIED:20230823T103328Z
UID:12498-1693087200-1693092600@visitpuentegenil.es
SUMMARY:Campeonex en el Auditorio Hermanos Cuenca.
DESCRIPTION:No hay mejor manera de pasar el calor que con una buena película. \n¡Ven al cine de verano a disfrutar de la nueva película de Javier Fesser! Campeonex \nSinopsis: Nuestro equipo de campeones abandona el baloncesto para adentrarse\, por error\, en el fascinante mundo del atletismo de la mano de una entrenadora novata. Entre las duras exigencias de la nueva disciplina y la sorprendente capacidad de la entrenadora para atraer todo tipo de desgracias y calamidades\, todo acabará saliendo del revés. \n📌 Auditorio Hermanos Cuenca.\n📅 Sábado\, 26 de agosto.\n⏰ 22:00h\n🎟 5€\n👉Compra las entradas aquí.
URL:https://visitpuentegenil.es/evento/campeonex-en-el-auditorio-hermanos-cuenca/
LOCATION:Auditorio “Hermanos Cuenca”\, Calle Pinar de San Rafael\, s/n\, Puente Genil\, Córdoba\, 14500\, España
CATEGORIES:cine,Cine de Verano
ATTACH;FMTTYPE=image/jpeg:https://visitpuentegenil.es/wp-content/uploads/2023/08/campeonex-cartel-11270.jpg
END:VEVENT
BEGIN:VEVENT
DTSTART;TZID=Europe/Madrid:20230827T203000
DTEND;TZID=Europe/Madrid:20230827T230000
DTSTAMP:20260420T032356
CREATED:20230821T100607Z
LAST-MODIFIED:20230821T100740Z
UID:12488-1693168200-1693177200@visitpuentegenil.es
SUMMARY:El sonido nocturno de la historia. #NochesEnLaVilla2023
DESCRIPTION:Este domingo ven y conoce el yacimiento cuándo todos duermen. Descubre el encanto y la historia que guarda la Villa Romana de Fuente Alamo. Puente Genil al caer la noche. \n ¡Un lugar mágico que no te dejará indiferente!   \n📌Villa Romana de Fuente Álamo\n📅Domingo\, 27 de agosto.\n⏰De 20:30h a 23:00h\nMás info📞957605034 ext 380-388 📧 puentegenil@ciudadesmedias.org \n 
URL:https://visitpuentegenil.es/evento/el-sonido-nocturno-de-la-historia-nochesenlavilla2023-4/
LOCATION:Villa Romana de Fuente Álamo\, cv-297 km 3\, Puente Genil\, Córdoba\, 14500\, España
CATEGORIES:Arqueología,Visitas con audio guía
ATTACH;FMTTYPE=image/png:https://visitpuentegenil.es/wp-content/uploads/2023/08/SONIDO-NOCTURNO-27-AGOSTO.png
END:VEVENT
BEGIN:VEVENT
DTSTART;TZID=Europe/Madrid:20230828T220000
DTEND;TZID=Europe/Madrid:20230828T233000
DTSTAMP:20260420T032356
CREATED:20230823T102120Z
LAST-MODIFIED:20230823T102120Z
UID:12501-1693260000-1693265400@visitpuentegenil.es
SUMMARY:Blue Beetle\, una de súper héroes en el Cine de Verano.
DESCRIPTION:¿Qué mejor plan para una noche calurosa que ir al cine de verano?    Y si además es una de súper héroes todavía mejor. \nBLUE BEETLE  \nSinopsis: Jaime Reyes se encuentra en posesión de una antigua reliquia de biotecnología alienígena llamada Escarabajo. Cuando el Escarabajo elige a Jaime como huésped simbiótico\, le otorga una armadura con poderes extraordinarios e impredecibles. \nVen a ver cine en familia  y pasa una noche fantástica. \n📌 Auditorio Hermanos Cuenca.\n📅 Lunes\, 28 de agosto.\n⏰ 22:00h\n🎟 5€\n👉Compra las entradas aquí.
URL:https://visitpuentegenil.es/evento/blue-beetle-una-de-super-heroes-en-el-cine-de-verano/
LOCATION:Auditorio “Hermanos Cuenca”\, Calle Pinar de San Rafael\, s/n\, Puente Genil\, Córdoba\, 14500\, España
CATEGORIES:cine,Cine de Verano
ATTACH;FMTTYPE=image/jpeg:https://visitpuentegenil.es/wp-content/uploads/2023/08/28-BLUE-BEETLE-scaled.jpg
END:VEVENT
END:VCALENDAR