BEGIN:VCALENDAR
VERSION:2.0
PRODID:-//Visit Puente Genil - ECPv6.15.20//NONSGML v1.0//EN
CALSCALE:GREGORIAN
METHOD:PUBLISH
X-ORIGINAL-URL:https://visitpuentegenil.es
X-WR-CALDESC:Eventos para Visit Puente Genil
REFRESH-INTERVAL;VALUE=DURATION:PT1H
X-Robots-Tag:noindex
X-PUBLISHED-TTL:PT1H
BEGIN:VTIMEZONE
TZID:Europe/Madrid
BEGIN:DAYLIGHT
TZOFFSETFROM:+0100
TZOFFSETTO:+0200
TZNAME:CEST
DTSTART:20220327T010000
END:DAYLIGHT
BEGIN:STANDARD
TZOFFSETFROM:+0200
TZOFFSETTO:+0100
TZNAME:CET
DTSTART:20221030T010000
END:STANDARD
BEGIN:DAYLIGHT
TZOFFSETFROM:+0100
TZOFFSETTO:+0200
TZNAME:CEST
DTSTART:20230326T010000
END:DAYLIGHT
BEGIN:STANDARD
TZOFFSETFROM:+0200
TZOFFSETTO:+0100
TZNAME:CET
DTSTART:20231029T010000
END:STANDARD
BEGIN:DAYLIGHT
TZOFFSETFROM:+0100
TZOFFSETTO:+0200
TZNAME:CEST
DTSTART:20240331T010000
END:DAYLIGHT
BEGIN:STANDARD
TZOFFSETFROM:+0200
TZOFFSETTO:+0100
TZNAME:CET
DTSTART:20241027T010000
END:STANDARD
END:VTIMEZONE
BEGIN:VEVENT
DTSTART;TZID=Europe/Madrid:20230707T213000
DTEND;TZID=Europe/Madrid:20230708T233000
DTSTAMP:20260420T045716
CREATED:20230704T091716Z
LAST-MODIFIED:20230704T091716Z
UID:12300-1688765400-1688859000@visitpuentegenil.es
SUMMARY:Certamen de coros y verbena en la Caseta Municipal.
DESCRIPTION:La Asociación Músico Cultural la Alegría del Genil organiza este próximo fin de semana un certamen de coros rocieros y la I Verbena “La Alegría del Genil” en la Caseta Municipal\, con la colaboración del Ayuntamiento de Puente Genil. \nEl Certamen de Coros reunirá a los coros Romero de Céspedes de Hornachuelos\, Los Olivares de la Guijarrosa\, El Yunque de la Carlota\, Atalaya de Casariche\, Volver a nacer de Palma del Río\, Coro de Aguilar de la Frontera\, Sones del Camino y la Alegría del Genil de Puente Genil. \n \n📌 Caseta Municipal.\n📅 Viernes\, 7 de julio.\n⏰ 21:30h. \nEl sábado 8 de julio tendrá lugar la I Verbena “La Alegría del Genil\,” con concurso de sevillanas para niños y adultos y la música del Dúo Manantial a partir de las 23:00h. \n 
URL:https://visitpuentegenil.es/evento/certamen-de-coros-y-verbena-en-la-caseta-municipal/
LOCATION:Caseta Municipal Puente Genil\, Puente Genil\, Córdoba\, 14500
ATTACH;FMTTYPE=image/jpeg:https://visitpuentegenil.es/wp-content/uploads/2023/07/8-Verbena-La-Alegria-del-Genil.jpg
END:VEVENT
END:VCALENDAR