BEGIN:VCALENDAR
VERSION:2.0
PRODID:-//Visit Puente Genil - ECPv6.15.20//NONSGML v1.0//EN
CALSCALE:GREGORIAN
METHOD:PUBLISH
X-WR-CALNAME:Visit Puente Genil
X-ORIGINAL-URL:https://visitpuentegenil.es
X-WR-CALDESC:Eventos para Visit Puente Genil
REFRESH-INTERVAL;VALUE=DURATION:PT1H
X-Robots-Tag:noindex
X-PUBLISHED-TTL:PT1H
BEGIN:VTIMEZONE
TZID:Europe/Madrid
BEGIN:DAYLIGHT
TZOFFSETFROM:+0100
TZOFFSETTO:+0200
TZNAME:CEST
DTSTART:20240331T010000
END:DAYLIGHT
BEGIN:STANDARD
TZOFFSETFROM:+0200
TZOFFSETTO:+0100
TZNAME:CET
DTSTART:20241027T010000
END:STANDARD
BEGIN:DAYLIGHT
TZOFFSETFROM:+0100
TZOFFSETTO:+0200
TZNAME:CEST
DTSTART:20250330T010000
END:DAYLIGHT
BEGIN:STANDARD
TZOFFSETFROM:+0200
TZOFFSETTO:+0100
TZNAME:CET
DTSTART:20251026T010000
END:STANDARD
BEGIN:DAYLIGHT
TZOFFSETFROM:+0100
TZOFFSETTO:+0200
TZNAME:CEST
DTSTART:20260329T010000
END:DAYLIGHT
BEGIN:STANDARD
TZOFFSETFROM:+0200
TZOFFSETTO:+0100
TZNAME:CET
DTSTART:20261025T010000
END:STANDARD
END:VTIMEZONE
BEGIN:VEVENT
DTSTART;TZID=Europe/Madrid:20250609T090000
DTEND;TZID=Europe/Madrid:20250620T140000
DTSTAMP:20260424T193845
CREATED:20250606T100848Z
LAST-MODIFIED:20250606T101215Z
UID:16104-1749459600-1750428000@visitpuentegenil.es
SUMMARY:Fútbol Sala- Campeonato Local de Aficionados Verano 2025
DESCRIPTION:Ya está aquí una edición más del Campeonato Local de Fútbol Sala para aficionados que cada verano organiza la  Delegación de Deportes del Ayuntamiento de Puente Genil. \nLa competición arrancará el próximo 30 de junio y estará limitada a un máximo de 24 equipos participantes\, fomentado una participación equilibrada y el correcto desarrollo del torneo. Las finales tendrán lugar el 7 de agosto. \nInscripciones abiertas del 9 al 20 de junio a través de la aplicación Sporttia. Reunión de Delegados el 25 de junio a las 20:00h en Anexo Polideportivo. \nPara más información\, los interesados pueden dirigirse a la 📌Casa Ciudadana en horario de ⏰9:00 a 14:00h o en los teléfonos 📞957 605 284 -957 609161. \n¡Anímate y participa en este campeonato que se ha consolidado como una de las actividades más esperadas del verano en Puente Genil! \n📌 Inscripciones: 9 al 20 junio en  Sporttia.  \n 
URL:https://visitpuentegenil.es/evento/futbol-sala-campeonato-local-de-aficionados-verano-2025/
LOCATION:Polideportivo Municipal Francisco Manzano\, Calle Gran Capitán\, 21\, Puente Genil
CATEGORIES:Campeonato,Deportes,Fútbol Sala,Torneo
ATTACH;FMTTYPE=image/jpeg:https://visitpuentegenil.es/wp-content/uploads/2025/06/Campeonato-futbol-sala.jpg
END:VEVENT
BEGIN:VEVENT
DTSTART;TZID=Europe/Madrid:20250627T100000
DTEND;TZID=Europe/Madrid:20250627T233000
DTSTAMP:20260424T193845
CREATED:20250625T120332Z
LAST-MODIFIED:20250625T120332Z
UID:16331-1751018400-1751067000@visitpuentegenil.es
SUMMARY:Kiki Morente en concierto.
DESCRIPTION:¡ Kiki Morente en concierto! \n\n\nNos emociona anunciar una noche única junto a uno de los artistas más auténticos del flamenco actual: Kiki Morente.\n\n\n\n\n\nCon una voz heredada del alma de su padre\, el gran Enrique Morente\, y un estilo propio que mezcla lo tradicional con lo contemporáneo\, Kiki se ha ganado su lugar entre los grandes. Desde su debut con “Albayzín” hasta su evolución sonora en “El Cante”\, ha demostrado que el flamenco puede mirar al futuro sin olvidar sus raíces.\n\n\n Un concierto lleno de duende\, emoción y verdad.\n\n\n\n Viernes\, 27 de junio de 2025.\n22:00 horas.\n Paseo del Romeral\, Puente Genil.\n\n\n Entrada libre
URL:https://visitpuentegenil.es/evento/kiki-morente-en-concierto/
LOCATION:Paseo del Romeral\, Paseo del Romeral s/n\, Puente Genil\, Córdoba\, 14500\, España
CATEGORIES:Conciertos,Flamenco
ATTACH;FMTTYPE=image/jpeg:https://visitpuentegenil.es/wp-content/uploads/2025/06/27-kiki-morente.jpg
END:VEVENT
BEGIN:VEVENT
DTSTART;TZID=Europe/Madrid:20250627T130000
DTEND;TZID=Europe/Madrid:20250901T200000
DTSTAMP:20260424T193845
CREATED:20250625T095049Z
LAST-MODIFIED:20250625T095049Z
UID:16320-1751029200-1756756800@visitpuentegenil.es
SUMMARY:Apertura Piscina al Aire Libre Polideportivo Francisco Manzano
DESCRIPTION:¡Este verano\, sumérgete en la diversión en la piscina al aire libre del Polideportivo Francisco Manzano!\n\n\n Apertura: 𝟮𝟳 𝗱𝗲 𝗷𝘂𝗻𝗶𝗼\n\n Cursos de natación: 𝗱𝗲𝗹 𝟭 𝗱𝗲 𝗷𝘂𝗹𝗶𝗼 𝗮𝗹 𝟭𝟰 𝗱𝗲 𝗮𝗴𝗼𝘀𝘁𝗼\n Para todas las edades: desde mantenimiento acuático para adultos hasta iniciación\, perfeccionamiento o prenatación.\n\n Bonos\, entradas por tramos de edad y horarios flexibles para que disfrutes como quieras.\n¡Los mismos precios que el verano pasado!\n\n\n\n Inscripciones a los cursos 𝗮 𝗽𝗮𝗿𝘁𝗶𝗿 𝗱𝗲𝗹 𝟮𝟲 𝗱𝗲 𝗷𝘂𝗻𝗶𝗼 en Sporttia.com y Casa Ciudadana.\n\n Más info: 957 60 91 61 / 957 60 52 84 y en los carteles adjuntos.
URL:https://visitpuentegenil.es/evento/apertura-piscina-al-aire-libre-polideportivo-francisco-manzano/
LOCATION:Piscina Aire Libre Polideportivo\, Calle Cortes Españolas\, 79\, Puente Genil\, Córdoba\, 14500\, España
CATEGORIES:Actividades infantiles,Cursos,Piscina Polideportivo
ATTACH;FMTTYPE=image/jpeg:https://visitpuentegenil.es/wp-content/uploads/2025/06/piscina.jpg
END:VEVENT
BEGIN:VEVENT
DTSTART;TZID=Europe/Madrid:20250628T200000
DTEND;TZID=Europe/Madrid:20250628T230000
DTSTAMP:20260424T193845
CREATED:20250625T101644Z
LAST-MODIFIED:20250625T101644Z
UID:16327-1751140800-1751151600@visitpuentegenil.es
SUMMARY:No me cuentes películas... ¡Báilamelas!
DESCRIPTION:No me cuentes películas… ¡Báilamelas! es el espectáculo que el Centro de Baile Sens presenta el próximo sábado en el Teatro Circo de Puente Genil.\n\n\n\n Ya sabéis que ell@s son de bailarlo todo\, así que su manera de ver el cine es un poquito especial… \n\n\nSi quieres saber de qué va todo esto\, ¡no te lo pierdas!\n\n\n\n\n📍Teatro Circo.\n📅Sábado\, 28 de junio.\n⏰20:00h. \n\n  Entradas disponibles a partir de las 17:00 horas del lunes 23 en Centro de Baile Sens. Precio: 10 €
URL:https://visitpuentegenil.es/evento/no-me-cuentes-peliculas-bailamelas/
LOCATION:Teatro Circo\, C/ Jesús\, s/n\, Puente Genil\, Córdoba\, 14500\, España
CATEGORIES:Baile,Ballet,Exhibiciones,Festival,Flamenco
ATTACH;FMTTYPE=image/jpeg:https://visitpuentegenil.es/wp-content/uploads/2025/06/28-Sens.jpg
ORGANIZER;CN="Centro de baile 'SENS'":MAILTO:info@centrosens.com
END:VEVENT
END:VCALENDAR