BEGIN:VCALENDAR
VERSION:2.0
PRODID:-//Visit Puente Genil - ECPv6.15.20//NONSGML v1.0//EN
CALSCALE:GREGORIAN
METHOD:PUBLISH
X-ORIGINAL-URL:https://visitpuentegenil.es
X-WR-CALDESC:Eventos para Visit Puente Genil
REFRESH-INTERVAL;VALUE=DURATION:PT1H
X-Robots-Tag:noindex
X-PUBLISHED-TTL:PT1H
BEGIN:VTIMEZONE
TZID:Europe/Madrid
BEGIN:DAYLIGHT
TZOFFSETFROM:+0100
TZOFFSETTO:+0200
TZNAME:CEST
DTSTART:20240331T010000
END:DAYLIGHT
BEGIN:STANDARD
TZOFFSETFROM:+0200
TZOFFSETTO:+0100
TZNAME:CET
DTSTART:20241027T010000
END:STANDARD
BEGIN:DAYLIGHT
TZOFFSETFROM:+0100
TZOFFSETTO:+0200
TZNAME:CEST
DTSTART:20250330T010000
END:DAYLIGHT
BEGIN:STANDARD
TZOFFSETFROM:+0200
TZOFFSETTO:+0100
TZNAME:CET
DTSTART:20251026T010000
END:STANDARD
BEGIN:DAYLIGHT
TZOFFSETFROM:+0100
TZOFFSETTO:+0200
TZNAME:CEST
DTSTART:20260329T010000
END:DAYLIGHT
BEGIN:STANDARD
TZOFFSETFROM:+0200
TZOFFSETTO:+0100
TZNAME:CET
DTSTART:20261025T010000
END:STANDARD
END:VTIMEZONE
BEGIN:VEVENT
DTSTART;TZID=Europe/Madrid:20250627T130000
DTEND;TZID=Europe/Madrid:20250901T200000
DTSTAMP:20260424T183423
CREATED:20250625T095049Z
LAST-MODIFIED:20250625T095049Z
UID:16320-1751029200-1756756800@visitpuentegenil.es
SUMMARY:Apertura Piscina al Aire Libre Polideportivo Francisco Manzano
DESCRIPTION:¡Este verano\, sumérgete en la diversión en la piscina al aire libre del Polideportivo Francisco Manzano!\n\n\n Apertura: 𝟮𝟳 𝗱𝗲 𝗷𝘂𝗻𝗶𝗼\n\n Cursos de natación: 𝗱𝗲𝗹 𝟭 𝗱𝗲 𝗷𝘂𝗹𝗶𝗼 𝗮𝗹 𝟭𝟰 𝗱𝗲 𝗮𝗴𝗼𝘀𝘁𝗼\n Para todas las edades: desde mantenimiento acuático para adultos hasta iniciación\, perfeccionamiento o prenatación.\n\n Bonos\, entradas por tramos de edad y horarios flexibles para que disfrutes como quieras.\n¡Los mismos precios que el verano pasado!\n\n\n\n Inscripciones a los cursos 𝗮 𝗽𝗮𝗿𝘁𝗶𝗿 𝗱𝗲𝗹 𝟮𝟲 𝗱𝗲 𝗷𝘂𝗻𝗶𝗼 en Sporttia.com y Casa Ciudadana.\n\n Más info: 957 60 91 61 / 957 60 52 84 y en los carteles adjuntos.
URL:https://visitpuentegenil.es/evento/apertura-piscina-al-aire-libre-polideportivo-francisco-manzano/
LOCATION:Piscina Aire Libre Polideportivo\, Calle Cortes Españolas\, 79\, Puente Genil\, Córdoba\, 14500\, España
CATEGORIES:Actividades infantiles,Cursos,Piscina Polideportivo
ATTACH;FMTTYPE=image/jpeg:https://visitpuentegenil.es/wp-content/uploads/2025/06/piscina.jpg
END:VEVENT
BEGIN:VEVENT
DTSTART;TZID=Europe/Madrid:20250819T210000
DTEND;TZID=Europe/Madrid:20250819T210000
DTSTAMP:20260424T183423
CREATED:20250813T075424Z
LAST-MODIFIED:20250814T104812Z
UID:17032-1755637200-1755637200@visitpuentegenil.es
SUMMARY:Agenda Feria Real 19 de Agosto
DESCRIPTION:¡La Feria Real 2025 nos regala una noche mágica para cerrar las fiestas!\n 𝗠𝗮𝗿𝘁𝗲𝘀 𝟭𝟵 𝗱𝗲 𝗮𝗴𝗼𝘀𝘁𝗼\n A partir de las 𝟮𝟭:𝟬𝟬 𝗵: disfruta de la música en directo con 𝗟𝗼𝘀 𝗠𝗶𝗰𝗸𝗶𝘀 y la 𝗢𝗿𝗾𝘂𝗲𝘀𝘁𝗮 𝗦𝘁𝘆𝗹𝗼.\n Y para cerrar la noche por todo lo alto\, a las 𝟭:𝟯𝟬 𝗵… ¡espectacular 𝘀𝗵𝗼𝘄 𝗱𝗲 𝗳𝘂𝗲𝗴𝗼𝘀 𝗮𝗿𝘁𝗶𝗳𝗶𝗰𝗶𝗮𝗹𝗲𝘀ⵑ\nVen\, vive y siente la Feria de Puente Genil.
URL:https://visitpuentegenil.es/evento/puente-genil-feria-real-dia-19-de-agosto/
LOCATION:Caseta Municipal Puente Genil\, Puente Genil\, Córdoba\, 14500
CATEGORIES:Conciertos,Feria Real,Música,Orquestas
ATTACH;FMTTYPE=image/jpeg:https://visitpuentegenil.es/wp-content/uploads/2025/08/feria-real-ultimo-dia.jpg
END:VEVENT
END:VCALENDAR