BEGIN:VCALENDAR
VERSION:2.0
PRODID:-//Visit Puente Genil - ECPv6.15.20//NONSGML v1.0//EN
CALSCALE:GREGORIAN
METHOD:PUBLISH
X-WR-CALNAME:Visit Puente Genil
X-ORIGINAL-URL:https://visitpuentegenil.es
X-WR-CALDESC:Eventos para Visit Puente Genil
REFRESH-INTERVAL;VALUE=DURATION:PT1H
X-Robots-Tag:noindex
X-PUBLISHED-TTL:PT1H
BEGIN:VTIMEZONE
TZID:Europe/Madrid
BEGIN:DAYLIGHT
TZOFFSETFROM:+0100
TZOFFSETTO:+0200
TZNAME:CEST
DTSTART:20220327T010000
END:DAYLIGHT
BEGIN:STANDARD
TZOFFSETFROM:+0200
TZOFFSETTO:+0100
TZNAME:CET
DTSTART:20221030T010000
END:STANDARD
BEGIN:DAYLIGHT
TZOFFSETFROM:+0100
TZOFFSETTO:+0200
TZNAME:CEST
DTSTART:20230326T010000
END:DAYLIGHT
BEGIN:STANDARD
TZOFFSETFROM:+0200
TZOFFSETTO:+0100
TZNAME:CET
DTSTART:20231029T010000
END:STANDARD
BEGIN:DAYLIGHT
TZOFFSETFROM:+0100
TZOFFSETTO:+0200
TZNAME:CEST
DTSTART:20240331T010000
END:DAYLIGHT
BEGIN:STANDARD
TZOFFSETFROM:+0200
TZOFFSETTO:+0100
TZNAME:CET
DTSTART:20241027T010000
END:STANDARD
END:VTIMEZONE
BEGIN:VEVENT
DTSTART;TZID=Europe/Madrid:20230623T130000
DTEND;TZID=Europe/Madrid:20230625T160000
DTSTAMP:20260422T013501
CREATED:20230622T072614Z
LAST-MODIFIED:20230622T073233Z
UID:12255-1687525200-1687708800@visitpuentegenil.es
SUMMARY:Verbena de San Juan en el Barrio de la Isla.
DESCRIPTION:Un año más la Asociación de Vecinos del Barrio de la Isla celebra su tradicional Verbena de San Juan  el próximo fin de semana en el Parque de la Galana. \nLa barra estará atendida por Califa Drinks & Food a partir de las 13:00h del viernes 23 de junio y hasta la madrugada del domingo 25\, amenizando las veladas la Orquesta Stylo y con actividades para niños y mayores. \nSan Juan saldrá en procesión por su barrio en la tarde noche del sábado 24 de junio\, a partir de las 20:30h. \n¡¡Ven a disfrutar con nosotros la noche más mágica del año!!🤗🤗🤗 \n📌 Parque de la Galana.\n📅 Viernes\, 23 y sábado\, 24 de junio.\n⏰ 13:00h \n  \n 
URL:https://visitpuentegenil.es/evento/verbena-de-san-juan-en-el-barrio-de-la-isla/
LOCATION:parque de la Galana\, C/ La Huerta\, 26\, Puente Genil\, Córdoba\, 14500\, España
CATEGORIES:Verbenas
ATTACH;FMTTYPE=image/jpeg:https://visitpuentegenil.es/wp-content/uploads/2023/06/23-24-VERBENA-SAN-JUAN.jpg
END:VEVENT
END:VCALENDAR