BEGIN:VCALENDAR
VERSION:2.0
PRODID:-//Visit Puente Genil - ECPv6.15.20//NONSGML v1.0//EN
CALSCALE:GREGORIAN
METHOD:PUBLISH
X-ORIGINAL-URL:https://visitpuentegenil.es
X-WR-CALDESC:Eventos para Visit Puente Genil
REFRESH-INTERVAL;VALUE=DURATION:PT1H
X-Robots-Tag:noindex
X-PUBLISHED-TTL:PT1H
BEGIN:VTIMEZONE
TZID:Europe/Madrid
BEGIN:DAYLIGHT
TZOFFSETFROM:+0100
TZOFFSETTO:+0200
TZNAME:CEST
DTSTART:20250330T010000
END:DAYLIGHT
BEGIN:STANDARD
TZOFFSETFROM:+0200
TZOFFSETTO:+0100
TZNAME:CET
DTSTART:20251026T010000
END:STANDARD
BEGIN:DAYLIGHT
TZOFFSETFROM:+0100
TZOFFSETTO:+0200
TZNAME:CEST
DTSTART:20260329T010000
END:DAYLIGHT
BEGIN:STANDARD
TZOFFSETFROM:+0200
TZOFFSETTO:+0100
TZNAME:CET
DTSTART:20261025T010000
END:STANDARD
BEGIN:DAYLIGHT
TZOFFSETFROM:+0100
TZOFFSETTO:+0200
TZNAME:CEST
DTSTART:20270328T010000
END:DAYLIGHT
BEGIN:STANDARD
TZOFFSETFROM:+0200
TZOFFSETTO:+0100
TZNAME:CET
DTSTART:20271031T010000
END:STANDARD
END:VTIMEZONE
BEGIN:VEVENT
DTSTART;TZID=Europe/Madrid:20260227T190000
DTEND;TZID=Europe/Madrid:20260301T210000
DTSTAMP:20260421T220238
CREATED:20260227T101853Z
LAST-MODIFIED:20260227T101853Z
UID:18604-1772218800-1772398800@visitpuentegenil.es
SUMMARY:Exposición Colectiva de Pintura “Paisajes” en Microespacio Cultural Nº11.
DESCRIPTION:Llega la Exposición Colectiva de Pintura “Paisajes” al Microespacio Cultural Nº11: una cita imprescindible para amantes del arte\, la pintura contemporánea y los paisajes interpretados desde miradas muy personales por el alumnado de Enrique Reina. \nEn esta muestra colectiva podrás descubrir las obras de:👉 Teresa de Paz👉 Isabel Carmona👉 Teresa Duclos👉 Andrés Tenor👉 Antonio de Paz👉 Pepa Márquez👉 Rosario Gálvez👉 David Delgado👉 Luz del Puerto👉 Mamen Fernández \nUna oportunidad perfecta para disfrutar del arte en Puente Genil\, apoyar a artistas locales y dejarte llevar por diferentes formas de entender el paisaje en la pintura: naturaleza\, emoción\, memoria y territorio en un mismo espacio. \n📍 Puente Genil🗓️ 27 y 28 de febrero | 🕖 19:00 – 22:30🗓️ 1 de marzo | 🕖 19:00 – 21:00🎟️ Entrada libre \nVen\, date una vuelta\, comparte cultura y vive el arte en tu pueblo 💛¡¡Te esperamos en el Microespacio Cultural Nº11!!
URL:https://visitpuentegenil.es/evento/exposicion-colectiva-de-pintura-paisajes-en-microespacio-cultural-no11/
LOCATION:Espacio Microcultural Nº 11\, Calle Aguilar\, 11\, Puente Genil\, Córdoba\, 14500\, España
CATEGORIES:Exposiciones,Pintura
ATTACH;FMTTYPE=image/jpeg:https://visitpuentegenil.es/wp-content/uploads/2026/02/27-Exposicion-colectiva.jpeg
ORGANIZER;CN="Espacio microcultural N%C2%BA11":MAILTO:espaciomicroculturaln11@gmail.com
END:VEVENT
BEGIN:VEVENT
DTSTART;TZID=Europe/Madrid:20260306T200000
DTEND;TZID=Europe/Madrid:20260308T200000
DTSTAMP:20260421T220238
CREATED:20260224T131832Z
LAST-MODIFIED:20260224T132659Z
UID:18595-1772827200-1773000000@visitpuentegenil.es
SUMMARY:🎭 “Cada Loco con su Tema” llega al Teatro Circo de Puente Genil.
DESCRIPTION:Zenobia Teatro\, con la colaboración del Ayuntamiento de Puente Genil\, se prepara para el estreno de su obra “Cada Loco con su Tema”\, dirigida por Elena Moreno\, los próximos 6 y 8 de marzo de 2026 en el  Teatro Circo.\n\nEsta nueva propuesta teatral promete una puesta en escena elegante y divertida\, con personajes llenos de personalidad que harán al público reflexionar y reír a partes iguales.\n\n•📍 Teatro Circo\, Puente Genil\n•🗓️ Viernes 6 de marzo de 2026\n•🗓️ Domingo 8 de marzo de 2026\n•🕗 Hora: 20:00 h\n•🎟️ Entrada: 10 €\n\n🎫 Venta de entradas\n•Calzados Kike\n•📞 691 656 425\n•📩 zenobiateatro@gmail.com
URL:https://visitpuentegenil.es/evento/%f0%9f%8e%ad-cada-loco-con-su-tema-llega-al-teatro-circo-de-puente-genil/
LOCATION:Teatro Circo\, C/ Jesús\, s/n\, Puente Genil\, Córdoba\, 14500\, España
CATEGORIES:Comedia,Teatro
ATTACH;FMTTYPE=image/jpeg:https://visitpuentegenil.es/wp-content/uploads/2026/02/8-Cada-loco-con-su-tema.jpg
ORGANIZER;CN="Asociacion de Teatro Zenobia":MAILTO:maynavp@gmail.com
END:VEVENT
BEGIN:VEVENT
DTSTART;TZID=Europe/Madrid:20260308T170000
DTEND;TZID=Europe/Madrid:20260308T183000
DTSTAMP:20260421T220238
CREATED:20260225T111004Z
LAST-MODIFIED:20260225T111004Z
UID:18601-1772989200-1772994600@visitpuentegenil.es
SUMMARY:🎹✨ LUDOVICO – Concierto Tributo a Ludovico Einaudi en Puente Genil ✨🎶
DESCRIPTION:Disfruta de una experiencia musical única en Puente Genil con el Concierto Tributo a Ludovico Einaudi – Piano Candlelight del pianista local Víctor Jiménez\, un espectáculo íntimo donde la magia del piano y la luz de las velas crearán una atmósfera inolvidable. \nDesde las melodías más delicadas hasta las composiciones más emotivas\, este tributo celebra la sensibilidad y profundidad de uno de los grandes compositores contemporáneos. \n📍 Multicines Puente Genil \n📅 Domingo 8 de marzo \n🕔 17:00 h \n🎟️ Entradas \n* Anticipada: 10 € \n* En taquilla: 15 € \nVive en directo piezas que han conquistado al mundo. Disfruta de la música en un entorno cálido y especial.🎹✨ \n📌 Entradas disponibles en puntos de venta autorizados y por encargo. \n  \n 
URL:https://visitpuentegenil.es/evento/%f0%9f%8e%b9%e2%9c%a8-ludovico-concierto-tributo-a-ludovico-einaudi-en-puente-genil-%e2%9c%a8%f0%9f%8e%b6/
LOCATION:Multicines Puente Genil\, Pol. Ind. Las Acacias\, C. Mimosa\, 3\, Puente Genil\, Córdoba\, 14500\, España
CATEGORIES:Conciertos,Música,Tributo
ATTACH;FMTTYPE=image/jpeg:https://visitpuentegenil.es/wp-content/uploads/2026/02/8-Concierto-Ludovico-Einaudi.jpeg
END:VEVENT
BEGIN:VEVENT
DTSTART;TZID=Europe/Madrid:20260313T200000
DTEND;TZID=Europe/Madrid:20260313T213000
DTSTAMP:20260421T220238
CREATED:20260305T115606Z
LAST-MODIFIED:20260305T115606Z
UID:18623-1773432000-1773437400@visitpuentegenil.es
SUMMARY:V Reconocimiento “Charo Prieto” por la Igualdad entre Mujeres y Hombres en Puente Genil.
DESCRIPTION:Puente Genil acogerá el próximo 13 de marzo a las 20:00 horas el acto de entrega del V Reconocimiento “Charo Prieto” por la Igualdad entre Mujeres y Hombres\, un evento que pone en valor el compromiso social y la lucha por una sociedad más justa e igualitaria. \nLa cita tendrá lugar en el Salón de Actos de la Biblioteca Ricardo Molina\, en un acto organizado por el Movimiento Feminista de Puente Genil con la colaboración del Ayuntamiento de Puente Genil. \nEste reconocimiento rinde homenaje a la figura de Charo Prieto Escalera\, quien fue la primera concejala de la Mujer del Ayuntamiento de Puente Genil y una pionera en la promoción de políticas de igualdad en el municipio. Su legado continúa vivo a través de este galardón que cada año distingue a personas o colectivos que destacan por su compromiso con la igualdad de derechos y oportunidades entre mujeres y hombres. \nDesde su creación en 2021\, estos reconocimientos han premiado la labor de activistas\, profesionales y entidades que trabajan por una sociedad más igualitaria\, contribuyendo a visibilizar el trabajo realizado en ámbitos sociales\, educativos\, culturales o institucionales. \nEl acto será también una oportunidad para recordar el legado y pensamiento de Charo Prieto\, resumido en una de sus frases más inspiradoras: \n\n“Otro mundo es posible. Otro mundo lo haremos las mujeres en compañía de muchos hombres”. \n\nOs invitamos a asistir a esta cita con la igualdad\, la memoria y el compromiso social. \n📍 Lugar: Biblioteca Ricardo Molina (Salón de actos)📅 Fecha: 13 de marzo🕗 Hora: 20:00 h
URL:https://visitpuentegenil.es/evento/v-reconocimiento-charo-prieto-por-la-igualdad-entre-mujeres-y-hombres-en-puente-genil/
LOCATION:Biblioteca Pública Municipal Ricardo Molina\, Parque los Pinos\, s/n\, Puente Genil\, Córdoba\, 14500\, España
CATEGORIES:Homenajes,Igualdad,Mujer
ATTACH;FMTTYPE=image/jpeg:https://visitpuentegenil.es/wp-content/uploads/2026/03/13-Reconocimientos-Charo-Prieto.jpeg
ORGANIZER;CN="Movimiento Feminista Puente Genil":MAILTO:movimientofeministapg@gmail.com
END:VEVENT
BEGIN:VEVENT
DTSTART;TZID=Europe/Madrid:20260314T183000
DTEND;TZID=Europe/Madrid:20260314T200000
DTSTAMP:20260421T220238
CREATED:20260309T094540Z
LAST-MODIFIED:20260309T094540Z
UID:18626-1773513000-1773518400@visitpuentegenil.es
SUMMARY:📚 El nº11 acoge la presentación de una historia inspiradora sobre la Diabetes Tipo 1.
DESCRIPTION:El próximo sábado\, 14 de marzo a las 18:30 h\, la escritora Lulú Dulceazul nos visitará para una entrevista y encuentro con el público en torno a su libro La aventura de descubrir mi diabetes\, una obra basada en una historia real que acompaña y ayuda a comprender el camino de la diabetes tipo 1. \n📍 El evento tendrá lugar en Espacio Microcultural nº 11\, un espacio dedicado a la cultura y a la difusión de proyectos literarios y sociales. \nEsta actividad propone un encuentro cercano y divulgativo\, donde se hablará sobre la experiencia personal reflejada en el libro\, la importancia de la educación diabetológica y el apoyo a quienes conviven con esta condición. \n✨ Una oportunidad para conocer de cerca una historia que acompaña\, sensibiliza y genera conciencia. \n🎟 Entrada gratuita (con reserva previa)📧 Reservas: espaciomicroculturaln11@gmail.com \nSi te interesa la literatura con valores\, la salud y las historias reales\, no te pierdas este evento cultural en Puente Genil. \n🗓 14 de marzo de 2026\n⏰ 18:30 h\n📌 Espacio Microcultural nº 11\n🎟 Entrada gratuita con reserva previa en 📧espaciomicroculturaln11@gmail.com
URL:https://visitpuentegenil.es/evento/%f0%9f%93%9a-el-no11-acoge-la-presentacion-de-una-historia-inspiradora-sobre-la-diabetes-tipo-1/
LOCATION:Espacio Microcultural Nº 11\, Calle Aguilar\, 11\, Puente Genil\, Córdoba\, 14500\, España
ATTACH;FMTTYPE=image/jpeg:https://visitpuentegenil.es/wp-content/uploads/2026/03/14-dIABETES-11.jpeg
ORGANIZER;CN="Espacio microcultural N%C2%BA11":MAILTO:espaciomicroculturaln11@gmail.com
END:VEVENT
BEGIN:VEVENT
DTSTART;TZID=Europe/Madrid:20260315T200000
DTEND;TZID=Europe/Madrid:20260315T213000
DTSTAMP:20260421T220238
CREATED:20260311T113705Z
LAST-MODIFIED:20260311T113705Z
UID:18639-1773604800-1773610200@visitpuentegenil.es
SUMMARY:✨ Solemne Vía Crucis de la Hermandad de las Penas.
DESCRIPTION:Puente Genil vive un momento emotivo de su Cuaresma con la celebración del Solemne Vía Crucis organizado por la Seráfica y Piadosa Hermandad de Penitencia y Cofradía de Nazarenos de Nuestro Padre Jesús de las Penas y Nuestra Señora Reina de los Ángeles. \nEl recorrido discurrirá por las calles de la feligresía hasta llegar a la Casa Hermandad (Calle Jesús\, 15)\, en un acto cargado de recogimiento\, fe y tradición que forma parte del intenso calendario de la Cuaresma y la Semana Santa de Puente Genil\, una de las celebraciones más singulares de Andalucía. \nSi visitas Puente Genil en estas fechas\, tendrás la oportunidad de vivir de cerca una manifestación única de patrimonio\, cultura y devoción popular\, donde la tradición cofrade se mezcla con la historia y la identidad de la localidad. \n🙏 Una cita imprescindible para vecinos\, cofrades y visitantes que desean sentir la esencia de la Semana Santa pontanesa. \n📅 Domingo\, 15 de marzo de 2026 \n🕗 20:00 h \n📍 Salida desde la Parroquia de Nuestra Señora de la Purificación \n 
URL:https://visitpuentegenil.es/evento/%e2%9c%a8-solemne-via-crucis-de-la-hermandad-de-las-penas/
LOCATION:Parroquia Ntra. Sra. de la Purificación\, C/ Don Gonzalo 18\, Puente Genil\, Córdoba\, 14500
CATEGORIES:Cofradías,Viacrucis
ATTACH;FMTTYPE=image/jpeg:https://visitpuentegenil.es/wp-content/uploads/2026/03/15-Via-Crucis-Penas.jpeg
ORGANIZER;CN="Hermandad de las Penas":MAILTO:hermandadlaspenaspg@gmail.com
END:VEVENT
BEGIN:VEVENT
DTSTART;TZID=Europe/Madrid:20260319T213000
DTEND;TZID=Europe/Madrid:20260319T223000
DTSTAMP:20260421T220238
CREATED:20260316T100901Z
LAST-MODIFIED:20260316T100901Z
UID:18649-1773955800-1773959400@visitpuentegenil.es
SUMMARY:Réquiem de Mozart en el Santuario de Nuestro Padre Jesús Nazareno.
DESCRIPTION:🎶 Puente Genil se llena de música sacra con el impresionante Réquiem de Mozart. \nEl próximo jueves 19 de marzo a las 21:30 h\, el Santuario de Nuestro Padre Jesús Nazareno acogerá un emocionante Concierto de Música Sacra con una selección del Réquiem KV-626 de Mozart y motetes sacros. \nLa interpretación correrá a cargo de la Coral Miguel Gant\, con la participación de la soprano Alicia Illanes\, Daniel Matas al órgano y la dirección de Rafael Sánchez. \n✨ Una oportunidad única para disfrutar de la música clásica en un entorno incomparable. \n📍 Santuario de Ntro. Padre Jesús Nazareno\n📅 19 de marzo de 2026\n⏰ 21:30 h\n🎟 Entrada libre hasta completar aforo \n¡No te lo pierdas y vive una noche de música y emoción en Puente Genil! \n 
URL:https://visitpuentegenil.es/evento/requiem-de-mozart-en-el-santuario-de-nuestro-padre-jesus-nazareno/
LOCATION:Santuario Ntro. Padre Jesús Nazareno\, Plaza del Calvario\, s/n\, Puente Genil\, Córdoba\, 14500\, España
CATEGORIES:Conciertos,Música,Música Sacra
ATTACH;FMTTYPE=image/jpeg:https://visitpuentegenil.es/wp-content/uploads/2026/03/19-requiem.jpg
END:VEVENT
BEGIN:VEVENT
DTSTART;TZID=Europe/Madrid:20260321T180000
DTEND;TZID=Europe/Madrid:20260321T213000
DTSTAMP:20260421T220238
CREATED:20260316T110739Z
LAST-MODIFIED:20260316T111037Z
UID:18652-1774116000-1774128600@visitpuentegenil.es
SUMMARY:Presentación del libro “Solo el arte libera al arte” de Guillermo Urbano.
DESCRIPTION:✨ Puente Genil celebra el arte y la poesía ✨ \nEl próximo sábado 21 de marzo tienes una cita con la cultura en el Micro Espacio Cultural Nº11 de Puente Genil con la presentación del libro “Solo el arte libera al arte”\, del autor Guillermo Urbano (Gul). \n📚 Una obra que invita a reflexionar sobre el poder transformador del arte y la creatividad. \n🗓 Presentación del libro\n📍 Micro Espacio Cultural Nº11\n(C/ Aguilar\, 11 – Puente Genil\, Córdoba)\n🕗 20:00 h \n🎭 Además\, podrás participar en una Master Class de Poesía Escénica impartida por el propio autor.\n🕕 18:00 – 20:00 h\n📲 Inscripción previa: 603 714 122\n📧 espaciomicroculturaln11@gmail.com \n👥 Presentan Enrique Reina y Mónica Jiménez \nUna oportunidad perfecta para disfrutar de la literatura\, la poesía y la cultura en Puente Genil. \n👉 Si te apasionan los libros\, la poesía y el arte\, no te lo puedes perder. \n 
URL:https://visitpuentegenil.es/evento/presentacion-del-libro-solo-el-arte-libera-al-arte-de-guillermo-urbano/
LOCATION:Espacio Microcultural Nº 11\, Calle Aguilar\, 11\, Puente Genil\, Córdoba\, 14500\, España
CATEGORIES:Poesía,Presentaciones libros
ATTACH;FMTTYPE=image/jpeg:https://visitpuentegenil.es/wp-content/uploads/2026/03/21-Solo-el-arte-libera-al-arte.jpeg
ORGANIZER;CN="Espacio microcultural N%C2%BA11":MAILTO:espaciomicroculturaln11@gmail.com
END:VEVENT
BEGIN:VEVENT
DTSTART;TZID=Europe/Madrid:20260324T110000
DTEND;TZID=Europe/Madrid:20260328T210000
DTSTAMP:20260421T220238
CREATED:20260324T111917Z
LAST-MODIFIED:20260324T111917Z
UID:18674-1774350000-1774731600@visitpuentegenil.es
SUMMARY:🖼️ Exposición “La forma del instante” en el Casino Pontanés.
DESCRIPTION:Del 23 al 28 de marzo\, el artista local Rafael Avilés Cabezas presenta su obra “La forma del instante” en el Casino Pontanés. \nUna exposición que invita a detener el tiempo y explorar la esencia del momento a través de la pintura\, en un entorno único que combina tradición y creatividad. \n📸 Una cita para los amantes del arte en Puente Genil ✨combina cultura\, paseo y gastronomía en una experiencia completa. \n📍Casino Pontanés \n📅 23 al 28 de marzo🕐 11:00–14:00 | 18:30–21:00
URL:https://visitpuentegenil.es/evento/%f0%9f%96%bc%ef%b8%8f-exposicion-la-forma-del-instante-en-el-casino-pontanes/
LOCATION:Casino Liceo Pontanés\, Plaza Nacional\, 6\, Puente Genil\, CÓRDOBA\, 14500\, España
CATEGORIES:Exposiciones,Pintura
ATTACH;FMTTYPE=image/jpeg:https://visitpuentegenil.es/wp-content/uploads/2026/03/23-28-Exposicion-Arte.jpeg
ORGANIZER;CN="Casino Pontan%C3%A9s":MAILTO:casinopontanes1897@gmail.com
END:VEVENT
BEGIN:VEVENT
DTSTART;TZID=Europe/Madrid:20260325T180000
DTEND;TZID=Europe/Madrid:20260325T193000
DTSTAMP:20260421T220238
CREATED:20260319T121931Z
LAST-MODIFIED:20260319T121931Z
UID:18657-1774461600-1774467000@visitpuentegenil.es
SUMMARY:🎬✨ Taller Igualcine Participativo en Puente Genil
DESCRIPTION:🎬✨ Taller Igualcine Participativo en Puente Genil: cine\, igualdad y transformación social \nLlega IGUALCINE Participativo\, un taller único impartido por Activa-T\, donde el cine se convierte en herramienta de transformación social\, dando protagonismo a la voz de la mujer 💜 Una propuesta cultural innovadora que combina cine\, participación ciudadana y perspectiva de género. \n🌾 Cine\, campo y creatividad se unen en una experiencia participativa que no te puedes perder.👩‍🎤 Comparte\, aprende y forma parte de una mirada diferente del audiovisual. \n📅 Miércoles\, 25 de marzo🕕 18:00 horas📍 Biblioteca Ricardo Molina (Sala de Exposiciones y Conferencias) \n🎟️ Actividad gratuita organizada por la delegación de Igualdad del Ayuntamiento de Puente Genil\, con el patrocionio de la Consejería de Inclusión Social\, Juventud\, Familias e Igualdad y la Diputación de Córdoba. \n👉 Si te apasiona el cine\, la igualdad y las historias que transforman… ¡este es tu sitio!
URL:https://visitpuentegenil.es/evento/%f0%9f%8e%ac%e2%9c%a8-taller-igualcine-participativo-en-puente-genil/
LOCATION:Biblioteca Pública Municipal Ricardo Molina\, Parque los Pinos\, s/n\, Puente Genil\, Córdoba\, 14500\, España
CATEGORIES:cine,Igualdad,Talleres
ATTACH;FMTTYPE=image/jpeg:https://visitpuentegenil.es/wp-content/uploads/2026/03/25-Igualcine.jpeg
ORGANIZER;CN="Delegaci%C3%B3n de Igualdad":MAILTO:mujer@aytopuentegenil.es
END:VEVENT
BEGIN:VEVENT
DTSTART;TZID=Europe/Madrid:20260327T213000
DTEND;TZID=Europe/Madrid:20260327T233000
DTSTAMP:20260421T220238
CREATED:20260320T080259Z
LAST-MODIFIED:20260326T113558Z
UID:18661-1774647000-1774654200@visitpuentegenil.es
SUMMARY: #Mananta2026. Viernes de Dolores tarde. Via Crucis Via Matris.
DESCRIPTION:✨ La emoción ya se siente en las calles de Puente Genil… \nVive uno de los momentos más íntimos y sobrecogedores de la antesala de nuestra Semana Santa: el Vía Crucis & Vía Matris. \n🕯️ Silencio\, devoción y tradición se unen en un recorrido único organizado por la Hermandad del Calvario de Puente Genil\, que partirá a las 21:30 h desde la Parroquia de Nuestra Señora de la Purificación hasta su Casa Hermandad. \nUna tarde para sentir\, para emocionarse… y para descubrir la esencia más pura de nuestra tierra ❤️ \n👉 ¿Te lo vas a perder? \n📍 Puente Genil🗓️ 27 marzo 2026🕤 21:30 h
URL:https://visitpuentegenil.es/evento/viernes-de-dolores-tarde/
LOCATION:Parroquia Ntra. Sra. de la Purificación\, C/ Don Gonzalo 18\, Puente Genil\, Córdoba\, 14500
CATEGORIES:Cofradías,Semana Santa,Viacrucis
ATTACH;FMTTYPE=image/jpeg:https://visitpuentegenil.es/wp-content/uploads/2026/03/27-Cartel-Via-Crucis-Via-Matris-2.026-scaled.jpg
END:VEVENT
BEGIN:VEVENT
DTSTART;TZID=Europe/Madrid:20260329T200000
DTEND;TZID=Europe/Madrid:20260329T210000
DTSTAMP:20260421T220238
CREATED:20260326T124354Z
LAST-MODIFIED:20260326T124354Z
UID:18724-1774814400-1774818000@visitpuentegenil.es
SUMMARY:#Mananta2026. Domingo de Ramos tarde.
DESCRIPTION:Traslado de la imagen del Santísimo Cristo de la Buena Muerte desde la Parroquia de Santiago el Mayor a las 20:00h hasta la ermita del Dulce Nombre de Jesús\, desde donde realizará su estación de penitencia el Viernes Santo. \n¡Ven a descubrir nuestra Mananta! ❤️ \n👉 ¿Te lo vas a perder? \n📍 Puente Genil🗓️ 29 marzo 2026🕤 20:00h
URL:https://visitpuentegenil.es/evento/mananta2026-domingo-de-ramos-tarde/
LOCATION:Parroquia de Santiago el Mayor\, Plaza Santiago\, 38\, Puente Genil
CATEGORIES:Procesión,Semana Santa,Traslado
ATTACH;FMTTYPE=image/png:https://visitpuentegenil.es/wp-content/uploads/2026/03/29-Cristo-Buena-Muerte.png
ORGANIZER;CN="Agrupaci%C3%B3n de Cofrad%C3%ADas y Corporaciones B%C3%ADblicas de Puente Genil":MAILTO:secretaria@agrupacioncofradias.es
END:VEVENT
BEGIN:VEVENT
DTSTART;TZID=Europe/Madrid:20260330T190000
DTEND;TZID=Europe/Madrid:20260331T013000
DTSTAMP:20260421T220238
CREATED:20260326T125959Z
LAST-MODIFIED:20260326T130738Z
UID:18728-1774897200-1774920600@visitpuentegenil.es
SUMMARY:#Mananta2026. Lunes Santo
DESCRIPTION:Decir Lunes Santo en Puente Genil es pensar en la Cofradía de la Santa Cena y la Virgen del Amor\, el latido de la fe que partirá de la Parroquia de San José a las 19:00h\, para realizar su recorrido procesional y regresar a su templo sobre las 01:45h. \n¡Ven a descubrir nuestra Mananta! ❤️ \n👉 ¿Te lo vas a perder? \n📍 Puente Genil🗓️ 30 marzo 2026🕤 19:00h
URL:https://visitpuentegenil.es/evento/mananta2026-lunes-santo/
LOCATION:Parroquia de San José\, Plaza de España\, s/n\, Puente Genil\, Córdoba\, 14500\, España
CATEGORIES:Cofradías,Procesión,Semana Santa
ATTACH;FMTTYPE=image/jpeg:https://visitpuentegenil.es/wp-content/uploads/2026/03/30-Lunes-Santo.jpg
ORGANIZER;CN="Agrupaci%C3%B3n de Cofrad%C3%ADas y Corporaciones B%C3%ADblicas de Puente Genil":MAILTO:secretaria@agrupacioncofradias.es
END:VEVENT
BEGIN:VEVENT
DTSTART;TZID=Europe/Madrid:20260331T210000
DTEND;TZID=Europe/Madrid:20260401T020000
DTSTAMP:20260421T220238
CREATED:20260326T133601Z
LAST-MODIFIED:20260326T133601Z
UID:18737-1774990800-1775008800@visitpuentegenil.es
SUMMARY:#Mananta2026. Martes Santo noche.
DESCRIPTION:El Martes Santo por la noche llega el momento de la Hermandad del Calvario que este año celebra el 50 aniversario de su primera salida procesional. \nEl recorrido partirá de su Casa Hermandad a las 21:00h para regresar sobre las 01:40h tras haber realizado su estación de penitencia. \n“Hay cruces que no se ven\, silencios que pesan y luchas que se libran en lo más profundo del alma. Y\, sin embargo\, en medio de todo ello\, encontramos 𝐂𝐎𝐍𝐒𝐔𝐄𝐋𝐎.” \n¡Ven a descubrir nuestra Mananta! ❤️ \n👉 ¿Te lo vas a perder? \n📍 Puente Genil🗓️ 31 marzo 2026🕤 21:00h
URL:https://visitpuentegenil.es/evento/mananta2026-martes-santo-noche/
LOCATION:Casa Hermandad del Calvario\, Calle Cruz de San Juan\, s/n\, Puente Genil\, Córdoba\, 14500\, Spain
CATEGORIES:Cofradías,Procesión,Semana Santa
ATTACH;FMTTYPE=image/jpeg:https://visitpuentegenil.es/wp-content/uploads/2026/03/31-Calvario.jpg
ORGANIZER;CN="Agrupaci%C3%B3n de Cofrad%C3%ADas y Corporaciones B%C3%ADblicas de Puente Genil":MAILTO:secretaria@agrupacioncofradias.es
END:VEVENT
BEGIN:VEVENT
DTSTART;TZID=Europe/Madrid:20260331T233000
DTEND;TZID=Europe/Madrid:20260401T140000
DTSTAMP:20260421T220238
CREATED:20260326T135028Z
LAST-MODIFIED:20260326T135028Z
UID:18741-1774999800-1775052000@visitpuentegenil.es
SUMMARY:#Mananta2026. Martes Santo "El Silencio."
DESCRIPTION:En la quietud de la noche y bajo un manto de nubes y estrellas\, nuestro Cristo del Silencio recorre las calles de Puente Genil\, marcando el paso de una tradición que palpita en el corazón de nuestro pueblo. \n¡Ven a descubrir nuestra Mananta! ❤️ \n👉 ¿Te lo vas a perder? \n📍 Puente Genil🗓️ 31 marzo 2026🕤 23:30h
URL:https://visitpuentegenil.es/evento/mananta2026-martes-santo-el-silencio/
LOCATION:Parroquia Ntra. Sra. del Carmen\, Avda. de la Estación\, 152\, Puente Genil\, Córdoba\, 14500\, Spain
CATEGORIES:Cofradías,Procesión,Semana Santa
ATTACH;FMTTYPE=image/jpeg:https://visitpuentegenil.es/wp-content/uploads/2026/03/31-Silencio-Cartel.jpg
ORGANIZER;CN="Agrupaci%C3%B3n de Cofrad%C3%ADas y Corporaciones B%C3%ADblicas de Puente Genil":MAILTO:secretaria@agrupacioncofradias.es
END:VEVENT
END:VCALENDAR