BEGIN:VCALENDAR
VERSION:2.0
PRODID:-//Visit Puente Genil - ECPv6.15.20//NONSGML v1.0//EN
CALSCALE:GREGORIAN
METHOD:PUBLISH
X-WR-CALNAME:Visit Puente Genil
X-ORIGINAL-URL:https://visitpuentegenil.es
X-WR-CALDESC:Eventos para Visit Puente Genil
REFRESH-INTERVAL;VALUE=DURATION:PT1H
X-Robots-Tag:noindex
X-PUBLISHED-TTL:PT1H
BEGIN:VTIMEZONE
TZID:Europe/Madrid
BEGIN:DAYLIGHT
TZOFFSETFROM:+0100
TZOFFSETTO:+0200
TZNAME:CEST
DTSTART:20240331T010000
END:DAYLIGHT
BEGIN:STANDARD
TZOFFSETFROM:+0200
TZOFFSETTO:+0100
TZNAME:CET
DTSTART:20241027T010000
END:STANDARD
BEGIN:DAYLIGHT
TZOFFSETFROM:+0100
TZOFFSETTO:+0200
TZNAME:CEST
DTSTART:20250330T010000
END:DAYLIGHT
BEGIN:STANDARD
TZOFFSETFROM:+0200
TZOFFSETTO:+0100
TZNAME:CET
DTSTART:20251026T010000
END:STANDARD
BEGIN:DAYLIGHT
TZOFFSETFROM:+0100
TZOFFSETTO:+0200
TZNAME:CEST
DTSTART:20260329T010000
END:DAYLIGHT
BEGIN:STANDARD
TZOFFSETFROM:+0200
TZOFFSETTO:+0100
TZNAME:CET
DTSTART:20261025T010000
END:STANDARD
BEGIN:DAYLIGHT
TZOFFSETFROM:+0100
TZOFFSETTO:+0200
TZNAME:CEST
DTSTART:20270328T010000
END:DAYLIGHT
BEGIN:STANDARD
TZOFFSETFROM:+0200
TZOFFSETTO:+0100
TZNAME:CET
DTSTART:20271031T010000
END:STANDARD
END:VTIMEZONE
BEGIN:VEVENT
DTSTART;TZID=Europe/Madrid:20251124T173000
DTEND;TZID=Europe/Madrid:20260103T193000
DTSTAMP:20260422T132847
CREATED:20251124T121033Z
LAST-MODIFIED:20251124T121503Z
UID:18135-1764005400-1767468600@visitpuentegenil.es
SUMMARY:#Navidad2025. Magia por “La Puente” Navideña.
DESCRIPTION:✨ Magia por “La Puente” Navideña 2025 ✨¡La ilusión vuelve a Puente Genil! Desde el 21 de noviembre hasta el 3 de enero\, los rincones más emblemáticos de nuestra localidad se llenan de actividades\, color y diversión para toda la familia. \nCada tarde\, de 17:30 a 19:30 h\, podrás disfrutar de propuestas diferentes que harán brillar la Navidad:🎨 Pinceladas Mágicas en Ágora Conchi Leiva (21 nov)🏅 Mini Olimpiadas en Plaza Emilio Reina (22 nov)🎲 Fiesta del Juego en Mirador del Genil (28 nov)🏁 Gran Prix Navideño en Plaza del Tropezón (5 dic)🍳 MasterChef Junior en Plaza Concejala Charo Prieto Escalera (12 dic)📚 Cuentos para Crear en Plaza 3 de Abril (19 dic)🌈 Explosión de Colores en Plazuela Manuel Chaparro Mansilla (26 dic)🎭 Pintacaras y Paje Real en Plaza España (3 ene) \nUn recorrido mágico lleno de creatividad\, deporte\, juegos y espíritu navideño que hará las delicias de pequeños y mayores. \nMás información Manos de Colores. 📱 686467254 \nVen\, participa y vive la Navidad como nunca.✨ Puente GeniAl enciende su Navidad ✨
URL:https://visitpuentegenil.es/evento/navidad2025-magia-por-la-puente-navidena/
LOCATION:PUENTE GENIL\, Puente Genil\, CÓRDOBA\, 14500
CATEGORIES:Actividades infantiles,Navidad
ATTACH;FMTTYPE=image/jpeg:https://visitpuentegenil.es/wp-content/uploads/2025/11/Magia-por-la-Puente-Navidena.jpg
END:VEVENT
BEGIN:VEVENT
DTSTART;TZID=Europe/Madrid:20251129T120000
DTEND;TZID=Europe/Madrid:20251129T123000
DTSTAMP:20260422T132847
CREATED:20251127T123638Z
LAST-MODIFIED:20251127T123638Z
UID:18188-1764417600-1764419400@visitpuentegenil.es
SUMMARY:✨ Homenaje a “Niño Hierro” en Puente Genil.
DESCRIPTION:Este sábado 29 de noviembre a las 12:00 h tendrá lugar el descubrimiento del busto de Niño Hierro en la confluencia de C/ Pósito con Cuesta Vitas\, un emotivo acto que pone en valor la historia y la identidad cultural de nuestro pueblo. \nTe invitamos a acompañarnos en este momento especial que celebra la memoria y el legado de una figura imprescindible para Puente Genil. 🤍 \n📍 C/ Pósito con Cuesta Vitas🗓️Sábado 29 de noviembre | 12:00 h
URL:https://visitpuentegenil.es/evento/%e2%9c%a8-homenaje-a-nino-hierro-en-puente-genil/
LOCATION:Calle Pósito con Cuesta Vitas.\, Calle Pósito\, Puente Genil\, Córdoba\, 14500\, Spain
CATEGORIES:Busto,Flamenco,Homenajes
ATTACH;FMTTYPE=image/jpeg:https://visitpuentegenil.es/wp-content/uploads/2025/11/29-Descubrimiento-busto-Nino-Hierro.jpg
END:VEVENT
BEGIN:VEVENT
DTSTART;TZID=Europe/Madrid:20251129T130000
DTEND;TZID=Europe/Madrid:20251129T223000
DTSTAMP:20260422T132847
CREATED:20251125T110919Z
LAST-MODIFIED:20251125T120408Z
UID:18141-1764421200-1764455400@visitpuentegenil.es
SUMMARY:Zambombá de Jerez a beneficio de la Cofradía del Santo Sepulcro.
DESCRIPTION:🎄 ¡Vuelve la Zambombá de Jerez a Puente Genil! 🎶 \nEl próximo 📅sábado\, 29 de noviembre\, Puente Genil vivirá una jornada muy especial con la  Zambombá de Jerez\, un evento lleno de arte\, tradición y esencia navideña a beneficio de la Cofradía del Santo Sepulcro. \nLa celebración tendrá lugar en el 📍 Hotel El Carmen\, a partir de las ⏰13:00h\, con un ambiente único que abrirá las puertas a la Navidad de la manera más auténtica. \n🎤 ARTISTAS INVITADOS: \nAl cante: Abraham del Zambo\, Pepi Peña\, Raquel Soto\, Raquel Heredia \nAl toque: Miguel de la Kati \nZambomba: Ali de la Tota \n🎵 ACTUACIONES ESPECIALES \nBombalay \nCano Jeddey DJ \nA 80 Por Hora \n🎟️ Entrada: 5 € (socios gratis) \n✨ Organizan: Casino Pontanés  y Aula Flamenca Fosforito \n🥘 Barra y repostería: Cofradía del Santo Sepulcro \n📣 Te esperamos en una de las mejores zambombás de la provincia\nUna oportunidad única para disfrutar del auténtico espíritu navideño jerezano sin salir de Puente Genil. Música\, convivencia\, tradición y un ambiente inigualable para dar la bienvenida a la Navidad. \n📍 29 de noviembre – Hotel El Carmen – Puente Genil
URL:https://visitpuentegenil.es/evento/zambomba-de-jerez-a-beneficio-de-la-cofradia-del-santo-sepulcro/
LOCATION:Hotel El Carmen\, Avenida de la Estación\, S/N\, Puente Genil\, Córdoba\, 14500\, España
CATEGORIES:Navidad,Zambomba
ATTACH;FMTTYPE=image/jpeg:https://visitpuentegenil.es/wp-content/uploads/2025/11/29-Zambomba.jpg
ORGANIZER;CN="Casino Pontan%C3%A9s":MAILTO:casinopontanes1897@gmail.com
END:VEVENT
END:VCALENDAR