BEGIN:VCALENDAR
VERSION:2.0
PRODID:-//Visit Puente Genil - ECPv6.15.20//NONSGML v1.0//EN
CALSCALE:GREGORIAN
METHOD:PUBLISH
X-ORIGINAL-URL:https://visitpuentegenil.es
X-WR-CALDESC:Eventos para Visit Puente Genil
REFRESH-INTERVAL;VALUE=DURATION:PT1H
X-Robots-Tag:noindex
X-PUBLISHED-TTL:PT1H
BEGIN:VTIMEZONE
TZID:Europe/Madrid
BEGIN:DAYLIGHT
TZOFFSETFROM:+0100
TZOFFSETTO:+0200
TZNAME:CEST
DTSTART:20240331T010000
END:DAYLIGHT
BEGIN:STANDARD
TZOFFSETFROM:+0200
TZOFFSETTO:+0100
TZNAME:CET
DTSTART:20241027T010000
END:STANDARD
BEGIN:DAYLIGHT
TZOFFSETFROM:+0100
TZOFFSETTO:+0200
TZNAME:CEST
DTSTART:20250330T010000
END:DAYLIGHT
BEGIN:STANDARD
TZOFFSETFROM:+0200
TZOFFSETTO:+0100
TZNAME:CET
DTSTART:20251026T010000
END:STANDARD
BEGIN:DAYLIGHT
TZOFFSETFROM:+0100
TZOFFSETTO:+0200
TZNAME:CEST
DTSTART:20260329T010000
END:DAYLIGHT
BEGIN:STANDARD
TZOFFSETFROM:+0200
TZOFFSETTO:+0100
TZNAME:CET
DTSTART:20261025T010000
END:STANDARD
BEGIN:DAYLIGHT
TZOFFSETFROM:+0100
TZOFFSETTO:+0200
TZNAME:CEST
DTSTART:20270328T010000
END:DAYLIGHT
BEGIN:STANDARD
TZOFFSETFROM:+0200
TZOFFSETTO:+0100
TZNAME:CET
DTSTART:20271031T010000
END:STANDARD
END:VTIMEZONE
BEGIN:VEVENT
DTSTART;TZID=Europe/Madrid:20251124T173000
DTEND;TZID=Europe/Madrid:20260103T193000
DTSTAMP:20260422T113111
CREATED:20251124T121033Z
LAST-MODIFIED:20251124T121503Z
UID:18135-1764005400-1767468600@visitpuentegenil.es
SUMMARY:#Navidad2025. Magia por “La Puente” Navideña.
DESCRIPTION:✨ Magia por “La Puente” Navideña 2025 ✨¡La ilusión vuelve a Puente Genil! Desde el 21 de noviembre hasta el 3 de enero\, los rincones más emblemáticos de nuestra localidad se llenan de actividades\, color y diversión para toda la familia. \nCada tarde\, de 17:30 a 19:30 h\, podrás disfrutar de propuestas diferentes que harán brillar la Navidad:🎨 Pinceladas Mágicas en Ágora Conchi Leiva (21 nov)🏅 Mini Olimpiadas en Plaza Emilio Reina (22 nov)🎲 Fiesta del Juego en Mirador del Genil (28 nov)🏁 Gran Prix Navideño en Plaza del Tropezón (5 dic)🍳 MasterChef Junior en Plaza Concejala Charo Prieto Escalera (12 dic)📚 Cuentos para Crear en Plaza 3 de Abril (19 dic)🌈 Explosión de Colores en Plazuela Manuel Chaparro Mansilla (26 dic)🎭 Pintacaras y Paje Real en Plaza España (3 ene) \nUn recorrido mágico lleno de creatividad\, deporte\, juegos y espíritu navideño que hará las delicias de pequeños y mayores. \nMás información Manos de Colores. 📱 686467254 \nVen\, participa y vive la Navidad como nunca.✨ Puente GeniAl enciende su Navidad ✨
URL:https://visitpuentegenil.es/evento/navidad2025-magia-por-la-puente-navidena/
LOCATION:PUENTE GENIL\, Puente Genil\, CÓRDOBA\, 14500
CATEGORIES:Actividades infantiles,Navidad
ATTACH;FMTTYPE=image/jpeg:https://visitpuentegenil.es/wp-content/uploads/2025/11/Magia-por-la-Puente-Navidena.jpg
END:VEVENT
BEGIN:VEVENT
DTSTART;TZID=Europe/Madrid:20251130T120000
DTEND;TZID=Europe/Madrid:20251130T140000
DTSTAMP:20260422T113111
CREATED:20251125T140304Z
LAST-MODIFIED:20251126T113054Z
UID:18153-1764504000-1764511200@visitpuentegenil.es
SUMMARY:Entrega del VII Premio Internacional de Poesía Juan Rejano – Puente Genil 2025
DESCRIPTION:Puente Genil acoge la entrega del VII Premio Internacional de Poesía Juan Rejano\, uno de los eventos literarios más destacados de nuestro panorama cultural. El acto tendrá lugar el 30 de noviembre de 2025 en el emblemático Teatro Circo\, un espacio histórico perfecto para disfrutar de la fuerza y belleza de la palabra poética. \nEste año\, la ganadora del premio es Josefina Aguilar Recuenco\, autora de la obra La Eternidad Menguante\, que ha sido reconocida por su calidad literaria y originalidad. El premio incluye 3.000 euros y la edición de la obra\, reforzando el compromiso de Puente Genil con el impulso a la creación literaria. \nLa entrada será libre hasta completar aforo\, convirtiendo este evento en una oportunidad única para disfrutar de la poesía en un entorno cultural inigualable. Un homenaje a la poesía\, a la cultura y al legado de Juan Rejano. \n \n📅 Domingo\, 30 de noviembre de 2025.\n🕛 12:00h.\n📍 Teatro Circo\, Puente Genil.\n🎟️ Entrada libre hasta completar aforo. \nTe invitamos a descubrir la riqueza cultural de Puente Genil\, disfrutar de su patrimonio y vivir una jornada dedicada a la poesía y la creatividad.
URL:https://visitpuentegenil.es/evento/entrega-del-vii-premio-internacional-de-poesia-juan-rejano-puente-genil-2025/
LOCATION:Teatro Circo\, C/ Jesús\, s/n\, Puente Genil\, Córdoba\, 14500\, España
CATEGORIES:Gala,Poesía,Premios
ATTACH;FMTTYPE=image/jpeg:https://visitpuentegenil.es/wp-content/uploads/2025/11/30-CARTEL-VII-PREMIO-DE-POESIA-JUAN-REJANO.jpeg
END:VEVENT
BEGIN:VEVENT
DTSTART;TZID=Europe/Madrid:20251130T123000
DTEND;TZID=Europe/Madrid:20251130T140000
DTSTAMP:20260422T113111
CREATED:20251127T122533Z
LAST-MODIFIED:20251127T122533Z
UID:18185-1764505800-1764511200@visitpuentegenil.es
SUMMARY:🏆 ¡Vive la emoción del balonmano en Puente Genil!
DESCRIPTION:Este domingo 30 de noviembre a las 12:30 h\, el Pabellón Alcalde Miguel Salas se llena de adrenalina con un partidazo de la Liga ASOBAL:💥 Ángel Ximénez Puente Genil vs. DICORPEBAL Ciudad de Logroño \n🎉 Black DomingoSi eres socio o abonado\, podrás retirar 1 entrada adicional por solo 5€.🔔 Recuerda: Es imprescindible presentar tu carnet de temporada en la taquilla del pabellón. \nEntradas:\nGeneral: 15€\nJubilados: 8€\nJuvenil (de 13 a 17 años): 8€\nNiños (de 6 a 12 años): 5€ \nVen a animar a nuestro equipo y disfruta de un ambiente único en Puente Genil. ¡No te lo puedes perder! 💚🤾‍♂️
URL:https://visitpuentegenil.es/evento/%f0%9f%8f%86-vive-la-emocion-del-balonmano-en-puente-genil/
LOCATION:Pabellón Alcalde Miguel Salas\, Calle Cortés Españolas\, s/n\, Puente Genil\, Córdoba\, 14500\, España
CATEGORIES:Balonmano,Deportes
ATTACH;FMTTYPE=image/jpeg:https://visitpuentegenil.es/wp-content/uploads/2025/11/30-Balonmano.jpg
ORGANIZER;CN="Club Balonmano %C3%81ngel Xim%C3%A9nez":MAILTO:angelximenezbm@gmail.com
END:VEVENT
END:VCALENDAR