BEGIN:VCALENDAR
VERSION:2.0
PRODID:-//Visit Puente Genil - ECPv6.15.20//NONSGML v1.0//EN
CALSCALE:GREGORIAN
METHOD:PUBLISH
X-ORIGINAL-URL:https://visitpuentegenil.es
X-WR-CALDESC:Eventos para Visit Puente Genil
REFRESH-INTERVAL;VALUE=DURATION:PT1H
X-Robots-Tag:noindex
X-PUBLISHED-TTL:PT1H
BEGIN:VTIMEZONE
TZID:Europe/Madrid
BEGIN:DAYLIGHT
TZOFFSETFROM:+0100
TZOFFSETTO:+0200
TZNAME:CEST
DTSTART:20240331T010000
END:DAYLIGHT
BEGIN:STANDARD
TZOFFSETFROM:+0200
TZOFFSETTO:+0100
TZNAME:CET
DTSTART:20241027T010000
END:STANDARD
BEGIN:DAYLIGHT
TZOFFSETFROM:+0100
TZOFFSETTO:+0200
TZNAME:CEST
DTSTART:20250330T010000
END:DAYLIGHT
BEGIN:STANDARD
TZOFFSETFROM:+0200
TZOFFSETTO:+0100
TZNAME:CET
DTSTART:20251026T010000
END:STANDARD
BEGIN:DAYLIGHT
TZOFFSETFROM:+0100
TZOFFSETTO:+0200
TZNAME:CEST
DTSTART:20260329T010000
END:DAYLIGHT
BEGIN:STANDARD
TZOFFSETFROM:+0200
TZOFFSETTO:+0100
TZNAME:CET
DTSTART:20261025T010000
END:STANDARD
BEGIN:DAYLIGHT
TZOFFSETFROM:+0100
TZOFFSETTO:+0200
TZNAME:CEST
DTSTART:20270328T010000
END:DAYLIGHT
BEGIN:STANDARD
TZOFFSETFROM:+0200
TZOFFSETTO:+0100
TZNAME:CET
DTSTART:20271031T010000
END:STANDARD
END:VTIMEZONE
BEGIN:VEVENT
DTSTART;TZID=Europe/Madrid:20251124T173000
DTEND;TZID=Europe/Madrid:20260103T193000
DTSTAMP:20260422T081816
CREATED:20251124T121033Z
LAST-MODIFIED:20251124T121503Z
UID:18135-1764005400-1767468600@visitpuentegenil.es
SUMMARY:#Navidad2025. Magia por “La Puente” Navideña.
DESCRIPTION:✨ Magia por “La Puente” Navideña 2025 ✨¡La ilusión vuelve a Puente Genil! Desde el 21 de noviembre hasta el 3 de enero\, los rincones más emblemáticos de nuestra localidad se llenan de actividades\, color y diversión para toda la familia. \nCada tarde\, de 17:30 a 19:30 h\, podrás disfrutar de propuestas diferentes que harán brillar la Navidad:🎨 Pinceladas Mágicas en Ágora Conchi Leiva (21 nov)🏅 Mini Olimpiadas en Plaza Emilio Reina (22 nov)🎲 Fiesta del Juego en Mirador del Genil (28 nov)🏁 Gran Prix Navideño en Plaza del Tropezón (5 dic)🍳 MasterChef Junior en Plaza Concejala Charo Prieto Escalera (12 dic)📚 Cuentos para Crear en Plaza 3 de Abril (19 dic)🌈 Explosión de Colores en Plazuela Manuel Chaparro Mansilla (26 dic)🎭 Pintacaras y Paje Real en Plaza España (3 ene) \nUn recorrido mágico lleno de creatividad\, deporte\, juegos y espíritu navideño que hará las delicias de pequeños y mayores. \nMás información Manos de Colores. 📱 686467254 \nVen\, participa y vive la Navidad como nunca.✨ Puente GeniAl enciende su Navidad ✨
URL:https://visitpuentegenil.es/evento/navidad2025-magia-por-la-puente-navidena/
LOCATION:PUENTE GENIL\, Puente Genil\, CÓRDOBA\, 14500
CATEGORIES:Actividades infantiles,Navidad
ATTACH;FMTTYPE=image/jpeg:https://visitpuentegenil.es/wp-content/uploads/2025/11/Magia-por-la-Puente-Navidena.jpg
END:VEVENT
BEGIN:VEVENT
DTSTART;TZID=Europe/Madrid:20251227T193000
DTEND;TZID=Europe/Madrid:20251227T220000
DTSTAMP:20260422T081816
CREATED:20251211T125255Z
LAST-MODIFIED:20251211T125255Z
UID:18367-1766863800-1766872800@visitpuentegenil.es
SUMMARY:#Navidad2025. Concierto tributo "El llanto del loco."
DESCRIPTION:🎉 ¡La música y la fiesta llegan a Puente Genil antes de Nochevieja! 🎶 \nEste sábado 27 de diciembre a las 19:30 h\, la Avenida Manuel Reina se llena de ritmo y emoción con el espectáculo “El Llanto del Loco”\, el gran tributo a El Canto del Loco\, acompañado por sesión de DJ en directo. \n🎤 Vive una noche inolvidable con los grandes éxitos del pop rock español\, rodeado del mejor ambiente navideño en el corazón de Puente Genil. \n📍 Evento gratuito organizado por el Ayuntamiento de Puente Genil. ¡Ideal para disfrutar en familia o con amigos! \n✨ ¡No te lo pierdas! Música\, luces\, alegría y espíritu festivo para despedir el año como se merece. \n📌Avda. Manuel Reina – La Matallana.\n📅Sábado\, 27 de diciembre.\n⏰19:30h. \n¡Que no te lo cuenten! \n 
URL:https://visitpuentegenil.es/evento/navidad2025-concierto-tributo-el-llanto-del-loco/
LOCATION:La Matallana\, Calle Susana Benítez\, 21\, Puente Genil\, CÓRDOBA\, 14500\, España
CATEGORIES:Conciertos,Música,Tributo
ATTACH;FMTTYPE=image/jpeg:https://visitpuentegenil.es/wp-content/uploads/2025/12/27-El-llanto-del-loco.jpg
ORGANIZER;CN="Delegaci%C3%B3n de Festejos":MAILTO:festejos@aytopuentegenil.es
END:VEVENT
BEGIN:VEVENT
DTSTART;TZID=Europe/Madrid:20251227T200000
DTEND;TZID=Europe/Madrid:20251227T213000
DTSTAMP:20260422T081816
CREATED:20251212T114852Z
LAST-MODIFIED:20251212T114852Z
UID:18374-1766865600-1766871000@visitpuentegenil.es
SUMMARY:#Navidad2025. Concierto Sinfónico de Fin de Año.
DESCRIPTION:✨ ¡El mejor broche musical para despedir el año te espera en Puente Genil! ✨ \nEl XVIII Festival Lírico y Sinfónico de Puente Genil celebra su tradicional Concierto Sinfónico de Fin de Año\, una cita imprescindible para los amantes de la música clásica y una de las actividades culturales más destacadas de la Navidad pontana. \n🎻 Hesperian Symphony Orchestra🎼 Dirección: Antonio Ariza Momblant📍 Teatro Circo de Puente Genil📅 27 de diciembre de 2025🕗 20:00 h \nVive una experiencia única con un repertorio lleno de emoción\, elegancia y fuerza sinfónica. Una oportunidad perfecta para disfrutar de la música en un entorno mágico y celebrar juntos la Navidad en Puente Genil. \n🎟 Entradas numeradas:10 € anticipada | 12 € taquilla📞 Información y reservas: 617 45 30 61 \n✨ ¡No te quedes sin tu entrada y celebra la cultura esta Navidad! \nOrganiza: Ayuntamiento de Puente GenilPatrocina: Diputación de CórdobaColabora: Amigos de la Música
URL:https://visitpuentegenil.es/evento/navidad2025-concierto-sinfonico-de-fin-de-ano/
LOCATION:Teatro Circo\, C/ Jesús\, s/n\, Puente Genil\, Córdoba\, 14500\, España
CATEGORIES:Conciertos,Música,Navidad,Orquestas
ATTACH;FMTTYPE=image/jpeg:https://visitpuentegenil.es/wp-content/uploads/2025/12/27-Concierto-Fin-de-Ano.jpg
END:VEVENT
END:VCALENDAR