BEGIN:VCALENDAR
VERSION:2.0
PRODID:-//Visit Puente Genil - ECPv6.15.20//NONSGML v1.0//EN
CALSCALE:GREGORIAN
METHOD:PUBLISH
X-WR-CALNAME:Visit Puente Genil
X-ORIGINAL-URL:https://visitpuentegenil.es
X-WR-CALDESC:Eventos para Visit Puente Genil
REFRESH-INTERVAL;VALUE=DURATION:PT1H
X-Robots-Tag:noindex
X-PUBLISHED-TTL:PT1H
BEGIN:VTIMEZONE
TZID:Europe/Madrid
BEGIN:DAYLIGHT
TZOFFSETFROM:+0100
TZOFFSETTO:+0200
TZNAME:CEST
DTSTART:20250330T010000
END:DAYLIGHT
BEGIN:STANDARD
TZOFFSETFROM:+0200
TZOFFSETTO:+0100
TZNAME:CET
DTSTART:20251026T010000
END:STANDARD
BEGIN:DAYLIGHT
TZOFFSETFROM:+0100
TZOFFSETTO:+0200
TZNAME:CEST
DTSTART:20260329T010000
END:DAYLIGHT
BEGIN:STANDARD
TZOFFSETFROM:+0200
TZOFFSETTO:+0100
TZNAME:CET
DTSTART:20261025T010000
END:STANDARD
BEGIN:DAYLIGHT
TZOFFSETFROM:+0100
TZOFFSETTO:+0200
TZNAME:CEST
DTSTART:20270328T010000
END:DAYLIGHT
BEGIN:STANDARD
TZOFFSETFROM:+0200
TZOFFSETTO:+0100
TZNAME:CET
DTSTART:20271031T010000
END:STANDARD
END:VTIMEZONE
BEGIN:VEVENT
DTSTART;TZID=Europe/Madrid:20260417T193000
DTEND;TZID=Europe/Madrid:20260417T210000
DTSTAMP:20260421T200103
CREATED:20260413T125059Z
LAST-MODIFIED:20260413T125059Z
UID:18835-1776454200-1776459600@visitpuentegenil.es
SUMMARY:🎶 Ensemble de Clarinetes en Puente Genil.
DESCRIPTION:El alumnado del C.S.M. “Rafael Orozco”  y el C.P.M. “Músico Ziryab” de Córdoba presenta en Puente Genil un nuevo proyecto conjunto lleno de energía\, creatividad y sonido envolvente: ¡un ensemble de clarinetes que no te puedes perder! 🎵 \n📍 El concierto tendrá lugar el próximo 17 de abril de 2026 a las 19:30h en el Teatro Circo\, un espacio emblemático para la cultura y las artes escénicas en la localidad. \nBajo la dirección de Virginia Moreno González\, este ensemble reunirá a jóvenes talentos del: \n🎼 Este evento supone una oportunidad excepcional para disfrutar de la riqueza sonora del clarinete en un formato colectivo\, con un repertorio variado y atractivo para todos los públicos. \n👉 Entrada libre hasta completar aforo \n📌 Organiza: Ayuntamiento de Puente Genil📌 Promueve: Departamento de clarinete del y C.S.M. “Rafael Orozco”  y el C.P.M. “Músico Ziryab”
URL:https://visitpuentegenil.es/evento/%f0%9f%8e%b6-ensemble-de-clarinetes-en-puente-genil/
LOCATION:Teatro Circo\, C/ Jesús\, s/n\, Puente Genil\, Córdoba\, 14500\, España
CATEGORIES:Conciertos,Música
ATTACH;FMTTYPE=image/jpeg:https://visitpuentegenil.es/wp-content/uploads/2026/04/17-ENSEMBLES-CLARINETES.jpeg
END:VEVENT
BEGIN:VEVENT
DTSTART;TZID=Europe/Madrid:20260417T203000
DTEND;TZID=Europe/Madrid:20260417T213000
DTSTAMP:20260421T200103
CREATED:20260414T113709Z
LAST-MODIFIED:20260414T114356Z
UID:18842-1776457800-1776461400@visitpuentegenil.es
SUMMARY:🏰Presentación oficial del cartel del VI Trail Castillo Anzur.
DESCRIPTION:¡Presentación oficial del cartel Trail Castillo Anzur! \n\n\nEl próximo 17 de abril a las 20:00  el CD Ocho Picos Trail presenta el cartel de la sexta edición del Trail Castillo Anzur en los bajos de la Biblioteca Ricardo Molina \n\n\n\nVen y conoce de primera mano las novedades\, sorpresas e hitos  que han preparado para este año.\n\n\n Además\, en esta edición dan un paso más: ¡será Campeonato Cordobés de CxM Individual y por Equipos! \n\n\n\nUna ocasión perfecta para compartir ilusión\, deporte y montaña con toda la comunidad \n\n📍Biblioteca Ricardo Molina.\n📅Viernes\, 17 de abril.\n⏰20:30h.\n\n\n\n¡Te esperamos!
URL:https://visitpuentegenil.es/evento/%f0%9f%8f%b0presentacion-oficial-del-cartel-del-vi-trail-castillo-anzur/
LOCATION:Biblioteca Pública Municipal Ricardo Molina\, Parque los Pinos\, s/n\, Puente Genil\, Córdoba\, 14500\, España
CATEGORIES:Deportes,Running,Trail
ATTACH;FMTTYPE=image/jpeg:https://visitpuentegenil.es/wp-content/uploads/2026/04/17-Presentacion-Trail.jpeg
END:VEVENT
END:VCALENDAR