BEGIN:VCALENDAR
VERSION:2.0
PRODID:-//Visit Puente Genil - ECPv6.15.20//NONSGML v1.0//EN
CALSCALE:GREGORIAN
METHOD:PUBLISH
X-ORIGINAL-URL:https://visitpuentegenil.es
X-WR-CALDESC:Eventos para Visit Puente Genil
REFRESH-INTERVAL;VALUE=DURATION:PT1H
X-Robots-Tag:noindex
X-PUBLISHED-TTL:PT1H
BEGIN:VTIMEZONE
TZID:Europe/Madrid
BEGIN:DAYLIGHT
TZOFFSETFROM:+0100
TZOFFSETTO:+0200
TZNAME:CEST
DTSTART:20250330T010000
END:DAYLIGHT
BEGIN:STANDARD
TZOFFSETFROM:+0200
TZOFFSETTO:+0100
TZNAME:CET
DTSTART:20251026T010000
END:STANDARD
BEGIN:DAYLIGHT
TZOFFSETFROM:+0100
TZOFFSETTO:+0200
TZNAME:CEST
DTSTART:20260329T010000
END:DAYLIGHT
BEGIN:STANDARD
TZOFFSETFROM:+0200
TZOFFSETTO:+0100
TZNAME:CET
DTSTART:20261025T010000
END:STANDARD
BEGIN:DAYLIGHT
TZOFFSETFROM:+0100
TZOFFSETTO:+0200
TZNAME:CEST
DTSTART:20270328T010000
END:DAYLIGHT
BEGIN:STANDARD
TZOFFSETFROM:+0200
TZOFFSETTO:+0100
TZNAME:CET
DTSTART:20271031T010000
END:STANDARD
END:VTIMEZONE
BEGIN:VEVENT
DTSTART;TZID=Europe/Madrid:20260422T203000
DTEND;TZID=Europe/Madrid:20260422T213000
DTSTAMP:20260421T182145
CREATED:20260421T095212Z
LAST-MODIFIED:20260421T095212Z
UID:18920-1776889800-1776893400@visitpuentegenil.es
SUMMARY:Balonmano Copa del Rey. Cajasol Ángel Ximénez 🆚 Irudek Bidasoa Irún.
DESCRIPTION:¡𝐄𝐒𝐓𝐄 𝐌𝐈𝐄́𝐑𝐂𝐎𝐋𝐄𝐒 tienes una cita con el mejor balonmano! \nEl CB Cajasol Ángel Ximénez se enfrenta a  Irudek Bidasoa en un choque de alto nivel. Nuestro equipo\, primer clasificado para esta ronda\, quiere seguir haciendo valer su fortaleza ante uno de los grandes\, mientras que los irundarras llegan con el objetivo de imponer su experiencia y dar un paso firme hacia Alicante. \nCB Cajasol Ángel Ximénez se juega el pase a la F8 de la Copa del Rey de Balonmano 2026 ! ¡Que el Pabellón Miguel Salas ruja\, que la fuerza de la grada empujando al equipo sea imparable!  ¡A por la 𝑪𝒐𝒑𝒂 𝒅𝒆𝒍 𝑹𝒆𝒚! \n Miércoles\, 22 de abril – ⏰20:30h.\n Pabellón Alcalde Miguel Salas\nPrecios especiales: General: 5€ Abonados: 3€ Socios GRATIS
URL:https://visitpuentegenil.es/evento/balonmano-copa-del-rey-cajasol-angel-ximenez-%f0%9f%86%9a-irudek-bidasoa-irun/
LOCATION:Pabellón Alcalde Miguel Salas\, Calle Cortés Españolas\, s/n\, Puente Genil\, Córdoba\, 14500\, España
CATEGORIES:Balonmano,Deportes
ATTACH;FMTTYPE=image/jpeg:https://visitpuentegenil.es/wp-content/uploads/2026/04/22-BM-Copa-del-Rey.jpg
ORGANIZER;CN="Club Balonmano %C3%81ngel Xim%C3%A9nez":MAILTO:angelximenezbm@gmail.com
END:VEVENT
BEGIN:VEVENT
DTSTART;TZID=Europe/Madrid:20260422T203000
DTEND;TZID=Europe/Madrid:20260422T223000
DTSTAMP:20260421T182145
CREATED:20260420T123555Z
LAST-MODIFIED:20260420T123832Z
UID:18914-1776889800-1776897000@visitpuentegenil.es
SUMMARY:🏃‍♂️ Social Trail. Quedada en Puente Genil. Ruta seminocturna para corredores.
DESCRIPTION:🌙🥾 ¡Nueva quedada en Puente Genil! \nPrepárate para una espectacular ruta seminocturna al Castillo Anzur y disfruta del deporte al aire libre en un entorno único. \n📍 Punto de encuentro: Tienda Adrenalina Sport\n📅 Miércoles\, 22 de abril\n🕣 20:30 h\n📏 12 KM | +300 m \n👟 Además\, podrás participar en el test de zapatillas Atom y entrar en el sorteo de un par. \nVive una noche diferente entre naturaleza\, historia y aventura en #PuenteGenil. \n¡No faltes! \n 
URL:https://visitpuentegenil.es/evento/%f0%9f%8f%83%e2%99%82%ef%b8%8f-social-trail-quedada-en-puente-genil-ruta-seminocturna-para-corredores/
LOCATION:Puente Genil
CATEGORIES:Deportes,Running,Trail
ATTACH;FMTTYPE=image/jpeg:https://visitpuentegenil.es/wp-content/uploads/2026/04/22-Ruta-seminocturna.jpeg
ORGANIZER;CN="Adrenalina Sports":MAILTO:chuky.motos@hotmail.com
END:VEVENT
BEGIN:VEVENT
DTSTART;TZID=Europe/Madrid:20260424T203000
DTEND;TZID=Europe/Madrid:20260424T233000
DTSTAMP:20260421T182145
CREATED:20260413T095706Z
LAST-MODIFIED:20260413T102146Z
UID:18828-1777062600-1777073400@visitpuentegenil.es
SUMMARY:Ópera La Flauta Mágica en Puente Genil
DESCRIPTION:Puente Genil se llena de magia con la llegada de la ópera La Flauta Mágica\, una de las obras más emblemáticas de Wolfgang Amadeus Mozart. \nEl próximo viernes 24 de abril de 2026 a las 20:30 horas\, el Teatro Circo de Puente Genil acogerá esta espectacular producción del Teatro Lírico Andaluz\, con solistas\, coro y orquesta en directo. \n✨ Una experiencia cultural única que combina música\, fantasía y emoción en una puesta en escena inolvidable. \n📍  Teatro Circo – Puente Genil📅 Viernes\, 24 de abril de 2026⏰ 20:30 h \n🎟️ Entradas: \n\nAnticipada: 10€\nTaquilla: 12€📞 Reservas: 617 453 061\n\nEvento para todos los públicos. \n👉 No pierdas la oportunidad de disfrutar de una de las grandes joyas de la ópera en un entorno único.
URL:https://visitpuentegenil.es/evento/opera-la-flauta-magica-en-puente-genil/
LOCATION:Teatro Circo\, C/ Jesús\, s/n\, Puente Genil\, Córdoba\, 14500\, España
CATEGORIES:Ópera
ATTACH;FMTTYPE=image/jpeg:https://visitpuentegenil.es/wp-content/uploads/2026/04/24-La-flauta-magica.jpeg
ORGANIZER;CN="Amigos de la M%C3%BAsica":MAILTO:emusica@aytopuentegenil.es
END:VEVENT
END:VCALENDAR