BEGIN:VCALENDAR
VERSION:2.0
PRODID:-//Visit Puente Genil - ECPv6.15.20//NONSGML v1.0//EN
CALSCALE:GREGORIAN
METHOD:PUBLISH
X-ORIGINAL-URL:https://visitpuentegenil.es
X-WR-CALDESC:Eventos para Visit Puente Genil
REFRESH-INTERVAL;VALUE=DURATION:PT1H
X-Robots-Tag:noindex
X-PUBLISHED-TTL:PT1H
BEGIN:VTIMEZONE
TZID:Europe/Madrid
BEGIN:DAYLIGHT
TZOFFSETFROM:+0100
TZOFFSETTO:+0200
TZNAME:CEST
DTSTART:20240331T010000
END:DAYLIGHT
BEGIN:STANDARD
TZOFFSETFROM:+0200
TZOFFSETTO:+0100
TZNAME:CET
DTSTART:20241027T010000
END:STANDARD
BEGIN:DAYLIGHT
TZOFFSETFROM:+0100
TZOFFSETTO:+0200
TZNAME:CEST
DTSTART:20250330T010000
END:DAYLIGHT
BEGIN:STANDARD
TZOFFSETFROM:+0200
TZOFFSETTO:+0100
TZNAME:CET
DTSTART:20251026T010000
END:STANDARD
BEGIN:DAYLIGHT
TZOFFSETFROM:+0100
TZOFFSETTO:+0200
TZNAME:CEST
DTSTART:20260329T010000
END:DAYLIGHT
BEGIN:STANDARD
TZOFFSETFROM:+0200
TZOFFSETTO:+0100
TZNAME:CET
DTSTART:20261025T010000
END:STANDARD
END:VTIMEZONE
BEGIN:VEVENT
DTSTART;TZID=Europe/Madrid:20250509T210000
DTEND;TZID=Europe/Madrid:20250531T210000
DTSTAMP:20260423T183744
CREATED:20250506T102029Z
LAST-MODIFIED:20250506T102029Z
UID:15735-1746824400-1748725200@visitpuentegenil.es
SUMMARY:"Más allá o más acá" en el Microespacio Cultural Nº11.
DESCRIPTION:Ven a disfrutar del mes de la alegría con la mejor forma de vivirlo… ¡Últimos pases de la comedia Más allá o más acá! \nReserva y no te quedes sin ver la sensación de la temporada en el Microespacio Cultural Nº11.Mándanos un correo con el pase en el que estás interesad@ asistir y espera confirmaciónReserva tu plaza a través del Gmail: espaciomicroculturaln11@gmail.com¡IMPORTANTE: es la única vía para formalizar plaza!Ven a disfrutar de un rato divertidísimo en la mejor compañía. Aforo limitado. \n\n📌Espacio Microcultural Nº11\n📅Mayo 2025.\n⏰21:00h\n  \n  \n 
URL:https://visitpuentegenil.es/evento/mas-alla-o-mas-aca-en-el-microespacio-cultural-no11/
LOCATION:Espacio Microcultural Nº 11\, Calle Aguilar\, 11\, Puente Genil\, Córdoba\, 14500\, España
CATEGORIES:Comedia,Teatro
ATTACH;FMTTYPE=image/jpeg:https://visitpuentegenil.es/wp-content/uploads/2025/05/9-31-Mas-alla-o-mas-aca.jpg
ORGANIZER;CN="Espacio microcultural N%C2%BA11":MAILTO:espaciomicroculturaln11@gmail.com
END:VEVENT
BEGIN:VEVENT
DTSTART;TZID=Europe/Madrid:20250523T203000
DTEND;TZID=Europe/Madrid:20250523T230000
DTSTAMP:20260423T183744
CREATED:20250512T095841Z
LAST-MODIFIED:20250522T110010Z
UID:15801-1748032200-1748041200@visitpuentegenil.es
SUMMARY:XVIII Festival Lírico de Puente Genil.
DESCRIPTION:¡Vuelve la zarzuela a Puente Genil!\nEl XVIII Festival Lírico nos trae “𝗟𝗮 𝗕𝗼𝗱𝗮 𝗱𝗲 𝗟𝘂𝗶𝘀 𝗔𝗹𝗼𝗻𝘀𝗼\,” una joya con música del maestro Gerónimo Jiménez y libreto de Javier de Burgos\, interpretada por la Orquesta\, Coro y Solistas del Teatro Lírico Andaluz.\n\n\n\n 𝘛𝘦𝘢𝘵𝘳𝘰 𝘊𝘪𝘳𝘤𝘰 – 𝘗𝘶𝘦𝘯𝘵𝘦 𝘎𝘦𝘯𝘪𝘭\n 𝘝𝘪𝘦𝘳𝘯𝘦𝘴 𝟤𝟥 𝘥𝘦 𝘮𝘢𝘺𝘰 𝘥𝘦 𝟤𝟢𝟤𝟧\n 𝟤𝟢:𝟥𝟢 𝘩\n\n\n Entradas numeradas:\n 10 € anticipada | 12 € en taquilla\n Información y reservas: 617 453 061\n\n\n\nUn espectáculo para todos los públicos que no te puedes perder. ¡Te esperamos!\n\nOrganiza: Delegación de Cultura\nPatrocina: Diputación de Córdoba
URL:https://visitpuentegenil.es/evento/xviii-festival-lirico-de-puente-genil/
LOCATION:Teatro Circo\, C/ Jesús\, s/n\, Puente Genil\, Córdoba\, 14500\, España
CATEGORIES:Festival,Zarzuela
ATTACH;FMTTYPE=image/jpeg:https://visitpuentegenil.es/wp-content/uploads/2025/05/23-La-bod-de-Luis-Alonso.jpg
END:VEVENT
BEGIN:VEVENT
DTSTART;TZID=Europe/Madrid:20250523T210000
DTEND;TZID=Europe/Madrid:20250525T223000
DTSTAMP:20260423T183744
CREATED:20250523T120514Z
LAST-MODIFIED:20250523T120514Z
UID:15963-1748034000-1748212200@visitpuentegenil.es
SUMMARY:"Historias de Amor" en el Microespacio Cultural Nº11.
DESCRIPTION:El Microespacio Cultural Nº. 11 acogerá los días 23\, 24 y 25 de mayo el concierto “Historias de Amor”. \nLa voz la pondrá Jesús Ruiz Calzado y lo acompañará al piano Alicia Baena Cobos. \nSe realizará a las 21:00 horas en la Calle Aguilar\, 11. \nEnvía un correo con el día en el que estás interesad@ asistir y espera confirmación. \nReserva tu plaza a través del Gmail: espaciomicroculturaln11@gmail.com¡IMPORTANTE: es la única vía para formalizar plaza! \n   Ven a disfrutar de este interesante evento musical. Aforo limitado.
URL:https://visitpuentegenil.es/evento/historias-de-amor-en-el-microespacio-cultural-no11/
LOCATION:Espacio Microcultural Nº 11\, Calle Aguilar\, 11\, Puente Genil\, Córdoba\, 14500\, España
CATEGORIES:Conciertos
ATTACH;FMTTYPE=image/jpeg:https://visitpuentegenil.es/wp-content/uploads/2025/05/Historias-de-Amor.jpg
ORGANIZER;CN="Espacio microcultural N%C2%BA11":MAILTO:espaciomicroculturaln11@gmail.com
END:VEVENT
END:VCALENDAR