BEGIN:VCALENDAR
VERSION:2.0
PRODID:-//Visit Puente Genil - ECPv6.15.20//NONSGML v1.0//EN
CALSCALE:GREGORIAN
METHOD:PUBLISH
X-WR-CALNAME:Visit Puente Genil
X-ORIGINAL-URL:https://visitpuentegenil.es
X-WR-CALDESC:Eventos para Visit Puente Genil
REFRESH-INTERVAL;VALUE=DURATION:PT1H
X-Robots-Tag:noindex
X-PUBLISHED-TTL:PT1H
BEGIN:VTIMEZONE
TZID:Europe/Madrid
BEGIN:DAYLIGHT
TZOFFSETFROM:+0100
TZOFFSETTO:+0200
TZNAME:CEST
DTSTART:20240331T010000
END:DAYLIGHT
BEGIN:STANDARD
TZOFFSETFROM:+0200
TZOFFSETTO:+0100
TZNAME:CET
DTSTART:20241027T010000
END:STANDARD
BEGIN:DAYLIGHT
TZOFFSETFROM:+0100
TZOFFSETTO:+0200
TZNAME:CEST
DTSTART:20250330T010000
END:DAYLIGHT
BEGIN:STANDARD
TZOFFSETFROM:+0200
TZOFFSETTO:+0100
TZNAME:CET
DTSTART:20251026T010000
END:STANDARD
BEGIN:DAYLIGHT
TZOFFSETFROM:+0100
TZOFFSETTO:+0200
TZNAME:CEST
DTSTART:20260329T010000
END:DAYLIGHT
BEGIN:STANDARD
TZOFFSETFROM:+0200
TZOFFSETTO:+0100
TZNAME:CET
DTSTART:20261025T010000
END:STANDARD
END:VTIMEZONE
BEGIN:VEVENT
DTSTART;TZID=Europe/Madrid:20250503T100000
DTEND;TZID=Europe/Madrid:20250503T203000
DTSTAMP:20260422T192202
CREATED:20250423T121725Z
LAST-MODIFIED:20250423T121725Z
UID:15583-1746266400-1746304200@visitpuentegenil.es
SUMMARY:Devoto Besamanos a Ntra. Sra. Purísima de la Concepción.
DESCRIPTION:La Pontificia y Real Cofradía de Ntra. Sra. la Purísima Concepción celebrará un Devoto Besamanos y la presentación de los niños a su Titular\, coincidiendo con el 375º Aniversario del Patronazgo. \nSe realizará el sábado 3 de mayo\, Día de la Cruz\, en el Santuario de Ntra. Sra. Purísima de la Concepción de 10:00 a 15:00 horas y de 16:30 a 20:30 horas. \n  \n📌Santuario de Ntra. Sra. de la Concepción.\n📅Sábado\, 3 de mayo.\n⏰10:00 – 15:00 horas / 16:30 – 20:30 horas.  \n 
URL:https://visitpuentegenil.es/evento/devoto-besamanos-a-ntra-sra-purisima-de-la-concepcion/
LOCATION:Santuario de la Concepción\, Calle Madre de Dios\, 2\, Puente Genil
CATEGORIES:Besamanos
ATTACH;FMTTYPE=image/jpeg:https://visitpuentegenil.es/wp-content/uploads/2025/04/Besamanos-Concepcion.jpeg
ORGANIZER;CN="Pontificia y Real Cofrad%C3%ADa de la Pur%C3%ADsima Concepci%C3%B3n":MAILTO:patronadepuentegenil@gmail.com
END:VEVENT
END:VCALENDAR