BEGIN:VCALENDAR
VERSION:2.0
PRODID:-//Visit Puente Genil - ECPv6.15.20//NONSGML v1.0//EN
CALSCALE:GREGORIAN
METHOD:PUBLISH
X-WR-CALNAME:Visit Puente Genil
X-ORIGINAL-URL:https://visitpuentegenil.es
X-WR-CALDESC:Eventos para Visit Puente Genil
REFRESH-INTERVAL;VALUE=DURATION:PT1H
X-Robots-Tag:noindex
X-PUBLISHED-TTL:PT1H
BEGIN:VTIMEZONE
TZID:Europe/Madrid
BEGIN:DAYLIGHT
TZOFFSETFROM:+0100
TZOFFSETTO:+0200
TZNAME:CEST
DTSTART:20200329T010000
END:DAYLIGHT
BEGIN:STANDARD
TZOFFSETFROM:+0200
TZOFFSETTO:+0100
TZNAME:CET
DTSTART:20201025T010000
END:STANDARD
BEGIN:DAYLIGHT
TZOFFSETFROM:+0100
TZOFFSETTO:+0200
TZNAME:CEST
DTSTART:20210328T010000
END:DAYLIGHT
BEGIN:STANDARD
TZOFFSETFROM:+0200
TZOFFSETTO:+0100
TZNAME:CET
DTSTART:20211031T010000
END:STANDARD
BEGIN:DAYLIGHT
TZOFFSETFROM:+0100
TZOFFSETTO:+0200
TZNAME:CEST
DTSTART:20220327T010000
END:DAYLIGHT
BEGIN:STANDARD
TZOFFSETFROM:+0200
TZOFFSETTO:+0100
TZNAME:CET
DTSTART:20221030T010000
END:STANDARD
END:VTIMEZONE
BEGIN:VEVENT
DTSTART;TZID=Europe/Madrid:20210321T080000
DTEND;TZID=Europe/Madrid:20210610T233000
DTSTAMP:20260424T060516
CREATED:20210321T113049Z
LAST-MODIFIED:20210321T113050Z
UID:8386-1616313600-1623367800@visitpuentegenil.es
SUMMARY:Convocada la tercera edición del PREMIO INTERNACIONAL DE POESÍA JUAN REJANO- Puente Genil.
DESCRIPTION:El Ayuntamiento de Puente Genil\, la Fundación Juan Rejano y la Asociación Cultural Poética  convocan el “III Premio Internacional de Poesía Juan Rejano – Puente Genil.” \nUna muestra de su constante compromiso con la promoción del arte\, muy especialmente la literatura\, y para rendir homenaje a uno de nuestros escritores más ilustres. \nTenéis hasta el 10 de junio para presentar vuestros poemarios. \nPuedes ver las bases aquí 👇 \nBASES III PREMIO INTERNACIONAL DE POESÍA JUAN REJANO-PUENTE GENIL
URL:https://visitpuentegenil.es/evento/convocada-la-tercera-edicion-del-premio-internacional-de-poesia-juan-rejano-puente-genil/
LOCATION:Córdoba
CATEGORIES:Concurso,Poesía
ATTACH;FMTTYPE=image/jpeg:https://visitpuentegenil.es/wp-content/uploads/2021/03/iii_premio_internacional_de_poesia_juan_rejano-1.jpg
END:VEVENT
BEGIN:VEVENT
DTSTART;TZID=Europe/Madrid:20210605T113000
DTEND;TZID=Europe/Madrid:20210605T130000
DTSTAMP:20260424T060516
CREATED:20210602T103222Z
LAST-MODIFIED:20210602T103222Z
UID:8943-1622892600-1622898000@visitpuentegenil.es
SUMMARY:Taller infantil en la Villa Romana de Fuente Álamo este fin de semana.
DESCRIPTION:Taller infantil: LA FLOR DEL MOSAICO. \nSábado 5 junio.11:30h \nLas flores de cuatro pétalos son un elemento característico de algunos de los mosaicos de la Villa Romana de Fuente Álamo. \nCon este taller los más peques podrán conocer arte del mosaico a través de los diferentes motivos de la naturaleza.  \n¡Reserva ya! 675 939 533 puentegenil@tuhistoria.org \nActividad siguiendo protocolos covid19. Aforo limitado. Precio: 8 € \n  \n 
URL:https://visitpuentegenil.es/evento/taller-infantil-en-la-villa-romana-de-fuente-alamo-este-fin-de-semana/
LOCATION:Villa Romana de Fuente Álamo\, cv-297 km 3\, Puente Genil\, Córdoba\, 14500\, España
CATEGORIES:Actividades infantiles,Talleres
ATTACH;FMTTYPE=image/jpeg:https://visitpuentegenil.es/wp-content/uploads/2021/06/5-Taller-mosaico.jpg
ORGANIZER;CN="Puente Genil Tu historia":MAILTO:puentegenil@tuhistoria.org
END:VEVENT
BEGIN:VEVENT
DTSTART;TZID=Europe/Madrid:20210605T120000
DTEND;TZID=Europe/Madrid:20210605T150000
DTSTAMP:20260424T060516
CREATED:20210602T101004Z
LAST-MODIFIED:20210602T101054Z
UID:8936-1622894400-1622905200@visitpuentegenil.es
SUMMARY:Final de Concurso de Cante Flamenco "Membrillo de Oro" 2021.
DESCRIPTION:Final del Concurso de Cante #Flamenco #MembrilloDeOro 2021\, de #PuenteGenil.  \n Sábado 5 de junio\, 12:00h Teatro Circo.  \nEntrada libre hasta completar aforo.  \nEl evento se realizará bajo las medidas de seguridad frente a la #COVID19.
URL:https://visitpuentegenil.es/evento/8936/
LOCATION:Teatro Circo\, C/ Jesús\, s/n\, Puente Genil\, Córdoba\, 14500\, España
CATEGORIES:Concurso,Flamenco
ATTACH;FMTTYPE=image/jpeg:https://visitpuentegenil.es/wp-content/uploads/2021/06/5-Cartel-final-membrillo-de-oro-2021-scaled.jpg
END:VEVENT
BEGIN:VEVENT
DTSTART;TZID=Europe/Madrid:20210606T110000
DTEND;TZID=Europe/Madrid:20210606T123000
DTSTAMP:20260424T060516
CREATED:20210602T104929Z
LAST-MODIFIED:20210602T113421Z
UID:8950-1622977200-1622982600@visitpuentegenil.es
SUMMARY:Visita con Anfitrión Fuente Álamo.
DESCRIPTION:Nuestro anfitrión te guiará por los secretos y las historias que nos cuenta la Villa Romana de Fuente Alamo. Puente Genil.\nUn lugar lleno de magia que te sorprenderá. \nTe esperamos el domingo\, 6 de junio\, a las 11:00h\n\n¡No te quedes sin tu plaza!\n Reserva ya y conoce más sobre la historia de Roma.\n675 93 95 33 / puentegenil@tuhistoria.org. \n\nVisitas siguiendo protocolos covid19. Aforo limitado. Precio: 5 € por participante.
URL:https://visitpuentegenil.es/evento/visita-con-anfitrion-fuente-alamo/
LOCATION:Villa Romana de Fuente Álamo\, cv-297 km 3\, Puente Genil\, Córdoba\, 14500\, España
CATEGORIES:Visitas guiadas
ATTACH;FMTTYPE=image/png:https://visitpuentegenil.es/wp-content/uploads/2021/06/6-Visita-con-anfitrion-6-Junio.png
ORGANIZER;CN="Puente Genil Tu historia":MAILTO:puentegenil@tuhistoria.org
END:VEVENT
BEGIN:VEVENT
DTSTART;TZID=Europe/Madrid:20210612T210000
DTEND;TZID=Europe/Madrid:20210612T230000
DTSTAMP:20260424T060516
CREATED:20210601T092254Z
LAST-MODIFIED:20210601T092254Z
UID:8862-1623531600-1623538800@visitpuentegenil.es
SUMMARY:“Palabras en Movimiento”\, un espectáculo de danza flamenca en el Teatro Circo.
DESCRIPTION:El Teatro Circo acogerá el sábado 12 de junio “Palabras en Movimiento.” \nUn espectáculo de danza y flamenco conferenciado\, protagonizado por por Inmaculada Aguilar y su grupo. \nEl grupo de artistas que acompañarán a la conferencia serán Estrella Terrón (bailarina) y José Belmonte (bailarín)\, Araceli Muñoz y Marta Gálvez (bailaoras)\, Juan Antonio Sánchez (piano)\, David Navarro (guitarra)\, Gema Cumplido (cante) y Daniel Morales (percusión). \nEste evento cultural\, organizado por la Diputación de Córdoba\, llega a Puente Genil de la mano de la delegación municipal de Promoción del Flamenco.  \nLa entrada es libre hasta completar aforo. Presenta el flamencólogo Juan Ortega.
URL:https://visitpuentegenil.es/evento/palabras-en-movimiento-un-espectaculo-de-danza-flamenca-en-el-teatro-circo/
LOCATION:Teatro Circo\, C/ Jesús\, s/n\, Puente Genil\, Córdoba\, 14500\, España
CATEGORIES:Conferencia,Danza,Flamenco
ATTACH;FMTTYPE=image/jpeg:https://visitpuentegenil.es/wp-content/uploads/2021/06/12-Al-compas-del-baile.jpg
END:VEVENT
BEGIN:VEVENT
DTSTART;TZID=Europe/Madrid:20210618T220000
DTEND;TZID=Europe/Madrid:20210618T233000
DTSTAMP:20260424T060516
CREATED:20210608T084421Z
LAST-MODIFIED:20210608T094109Z
UID:8986-1624053600-1624059000@visitpuentegenil.es
SUMMARY:¡Vuelve el Rock & River Blues Festival a #PuenteGenil!
DESCRIPTION:En junio vuelve el Rock&River Blues Festival a #PuenteGenil. \nEl viernes 18 de junio en el Anfiteatro Parque de Los Pinos actúan Antonio Serrano y Antonio Sáchez. \nEvento dentro del programa Más Provincia de la Diputación de Córdoba. \nEntrada libre hasta completar aforo.
URL:https://visitpuentegenil.es/evento/vuelve-el-rock-river-blues-festival-a-puentegenil/
LOCATION:Auditorio “Hermanos Cuenca”\, Calle Pinar de San Rafael\, s/n\, Puente Genil\, Córdoba\, 14500\, España
CATEGORIES:Conciertos,Festival
ATTACH;FMTTYPE=image/jpeg:https://visitpuentegenil.es/wp-content/uploads/2021/06/CARTEL-CONCIERTO-DIA-18-DE-JUNIO-1-scaled.jpg
END:VEVENT
BEGIN:VEVENT
DTSTART;TZID=Europe/Madrid:20210619T103000
DTEND;TZID=Europe/Madrid:20210620T120000
DTSTAMP:20260424T060516
CREATED:20210618T120609Z
LAST-MODIFIED:20210618T120609Z
UID:9055-1624098600-1624190400@visitpuentegenil.es
SUMMARY:Agenda deportiva #findesemana.
DESCRIPTION:  \nSÁBADO\, 19 JUNIO\nCampo de Fútbol\n.- Salerm Cosmetics PG – Deportivo Córdoba (4ª ANDALUZA CADETE) 10:30 horas \nDOMINGO\,20 JUNIO\nParque Santa Filomena\n.- Gan Plus Piragüismo: Descenso Batán-Écija 9:00 horas \nCampo de Fútbol\n.- Séneca C.F.- C.D. Granadal Figueroa (Final Copa Diputación 4ªAndaluza Cadete)    10:15 horas.\n.- A.D. Apademar – C.D. La Rivera del Guadalquivir (Final Copa Diputación 4ªAndaluza Juvenil) 12:00 horas. \nDATOS PROPORCIONADOS POR LOS CLUBES. PUEDEN SURGIR CAMBIOS DE ÚLTIMA HORA.
URL:https://visitpuentegenil.es/evento/agenda-deportiva-findesemana/
LOCATION:Córdoba
CATEGORIES:Deportes,Fútbol,Piragüismo
ATTACH;FMTTYPE=image/png:https://visitpuentegenil.es/wp-content/uploads/2021/06/19-20-agenda_deportiva_19062021.png
END:VEVENT
BEGIN:VEVENT
DTSTART;TZID=Europe/Madrid:20210619T213000
DTEND;TZID=Europe/Madrid:20210619T230000
DTSTAMP:20260424T060516
CREATED:20210615T075818Z
LAST-MODIFIED:20210615T101448Z
UID:9000-1624138200-1624143600@visitpuentegenil.es
SUMMARY:¡Vuelven los títeres al Anfiteatro de Los Pinos!
DESCRIPTION:Los títeres de Peneque vuelven para deleitar a toda la familia. \nLa compañía Producciones Infantiles Miguel Pino pone en escena “Peneque y la planta carnívora.” \nSábado\, 19 de junio\, en el Anfiteatro de Los Pinos a las 21:30h. \n\n\n\n\nEspectáculo apto para todas las edades\nEntrada Libre hasta completar aforo. Se cumplirán las medidas frente a la Covid-19.
URL:https://visitpuentegenil.es/evento/vuelven-los-titeres-al-anfiteatro-de-los-pinos/
LOCATION:Auditorio “Hermanos Cuenca”\, Calle Pinar de San Rafael\, s/n\, Puente Genil\, Córdoba\, 14500\, España
CATEGORIES:Actividades infantiles,Teatro,Títeres
ATTACH;FMTTYPE=image/png:https://visitpuentegenil.es/wp-content/uploads/2021/06/19-peneque_poster_oficial_1.png
END:VEVENT
BEGIN:VEVENT
DTSTART;TZID=Europe/Madrid:20210621T203000
DTEND;TZID=Europe/Madrid:20210621T220000
DTSTAMP:20260424T060516
CREATED:20210615T082405Z
LAST-MODIFIED:20210617T115501Z
UID:9004-1624307400-1624312800@visitpuentegenil.es
SUMMARY:¡Celebra con nosotros el #DíaInternacionaldelYoga!
DESCRIPTION:¡Celebra con nosotros el #DíaInternacionaldelYoga! \nPilar Rodríguez de Orgón Natura\,  nos ayudará a conectar con la naturaleza\, y con nuestros cuerpos y mentes. En un sitio tan especial como es la Villa Romana de Fuente Álamo. \nEscápate de la ciudad\, y ven el lunes 21 de junio a las 20:30h. \nPrecio: 5€ \nInfo y reservas: 675939533 \nActividad segura con todas las medidas de contención Covid_19.
URL:https://visitpuentegenil.es/evento/celebra-con-nosotros-el-diainternacionaldelyoga/
LOCATION:Villa Romana de Fuente Álamo\, cv-297 km 3\, Puente Genil\, Córdoba\, 14500\, España
CATEGORIES:Yoga
ATTACH;FMTTYPE=image/jpeg:https://visitpuentegenil.es/wp-content/uploads/2021/06/21-Agotadas-Yoga.jpg
ORGANIZER;CN="Puente Genil Tu historia":MAILTO:puentegenil@tuhistoria.org
END:VEVENT
BEGIN:VEVENT
DTSTART;TZID=Europe/Madrid:20210624T193000
DTEND;TZID=Europe/Madrid:20210624T213000
DTSTAMP:20260424T060516
CREATED:20210616T085806Z
LAST-MODIFIED:20210616T093301Z
UID:9015-1624563000-1624570200@visitpuentegenil.es
SUMMARY:Luna llena en Fuente Álamo.
DESCRIPTION:¿Quieres vivir una experiencia mágica en la Villa Romana de Fuente Álamo ? \nTe proponemos una actividad para recuperar la tranquilidad y la paz interior de la mano de Rocío Vinceiro. \nUna sesión de mindfulness que te ayudará a dejar atrás estrés\, malas experiencias\, miedos… \nY además un ritual de San Juan con la Luna Llena en un lugar extraordinario. \n24 JUNIO 2 sesiones 19:30h y 20:30h 9€ \n¡Te esperamos! \n Info y reservas: 675 93 95 33 \n#TuHistoriaPuenteGenil #CulturaSegura \n \n 
URL:https://visitpuentegenil.es/evento/luna-llena-en-fuente-alamo/
LOCATION:Villa Romana de Fuente Álamo\, cv-297 km 3\, Puente Genil\, Córdoba\, 14500\, España
ATTACH;FMTTYPE=image/jpeg:https://visitpuentegenil.es/wp-content/uploads/2021/06/24-LUNA-LLENA-EN-FUENTE-ALAMO-4.jpg
ORGANIZER;CN="Puente Genil Tu historia":MAILTO:puentegenil@tuhistoria.org
END:VEVENT
BEGIN:VEVENT
DTSTART;TZID=Europe/Madrid:20210625T220000
DTEND;TZID=Europe/Madrid:20210625T233000
DTSTAMP:20260424T060516
CREATED:20210623T120140Z
LAST-MODIFIED:20210623T120140Z
UID:9064-1624658400-1624663800@visitpuentegenil.es
SUMMARY:Llega la comedia al Auditorio del Parque de Los Pinos.
DESCRIPTION:8 apellidos andaluces. Un espectáculo de improvisación y monólogos\, cargado de ironía y 100% andaluz. \nCuatro cómicos andaluces y hermanos de padre\, pero cada uno de distinta madre\, se juntan para llenar de carcajadas la noche del 25 de junio\, a partir de las 22:00h en el Anfiteatro Parque de los Pinos. Entrada libre hasta completar aforo. \nQUIQUE LA FUENTE. \nHumorista sevillano con más de diez años de experiencia sobre los escenarios. Ha participado en numerosos concursos y festivales de humor\, siendo finalista y vencedor en gran parte de estos certámenes. Ha compartido escenario con cómicos de renombre como JJ. Vaquero o Nacho García\, entre otros. \nTXAPELA DE CÁDIZ. \nPolifacético comediante gaditano con más de quince años de trayectoria. Ha ejercido como actor\, improvisador\, monologuista\, cuentacuentos\, guionista\, y autor de carnaval.\nComo actor ha rodado a las órdenes de Hugo Stuven la serie documental para Canal Sur La guerra de la Independencia en Andalucía.\nAdemás\, ha participado en la serie El mar de la libertad\, de Canal Sur. Ha sido colaborador del programa Buenos Días en Onda Cádiz TV y ha trabajado en el canal de cómicos Paramount Comedy. \nABRAHAM MARTÍN. \nActor y cómico malagueño\, ha participado en varios cortometrajes y obras de teatro hasta que hace cuatro años decidiera apostar por el Stand-Up Comedy. Ha ganado varios certámenes de monólogos en varias ciudades (Legánes\, Alicante\, Málaga\, Salamanca\, Zaragoza…) \nJESÚS PIÑA.  \nMonologuista de Sevilla\, está catalogado en el circuito de cómicos como uno de los humoristas con más proyección del Stand-Up de comedia actual.\nGanador de más de una veintena de festivales de comedia a nivel nacional es\, sin lugar a dudas\, un monologuista que lleva el arte y la gracia por naturaleza\, además de ser una apuesta segura de la improvisación.
URL:https://visitpuentegenil.es/evento/llega-la-comedia-al-auditorio-del-parque-de-los-pinos/
LOCATION:Auditorio “Hermanos Cuenca”\, Calle Pinar de San Rafael\, s/n\, Puente Genil\, Córdoba\, 14500\, España
ATTACH;FMTTYPE=image/jpeg:https://visitpuentegenil.es/wp-content/uploads/2021/06/25-cartel_ocho_apellidos_andaluces.jpeg
END:VEVENT
BEGIN:VEVENT
DTSTART;TZID=Europe/Madrid:20210626T213000
DTEND;TZID=Europe/Madrid:20210626T230000
DTSTAMP:20260424T060516
CREATED:20210623T123235Z
LAST-MODIFIED:20210630T114722Z
UID:9067-1624743000-1624748400@visitpuentegenil.es
SUMMARY:Cirkomanía en el Auditorio al Aire Libre de Los Pinos.
DESCRIPTION:Los Hermanos Moreno Cia. de Circo acercan el circo al público\, lo investigan y fusionan. Así consiguen que “el más difícil todavía” se funda en el escenario con las diferentes tendencias del circo moderno.\nCon el humor como pilar y la calle como escenario principal buscan divertir e involucrar al público de manera que este se vaya encantado\, habiendo disfrutado de un buen y divertido espectáculo de circo.\nEspectáculo dinámico\, divertido y muy participativo en el que dos simpáticos personajes harán las delicias del público asistente.\nUn espectáculo muy fresco\, todo en clave de humor. Un espectáculo familiar diseñado para gozar y disfrutar. \n¿Te lo vas a perder? \nEntrada libre – hasta completar aforo.
URL:https://visitpuentegenil.es/evento/9067/
LOCATION:Auditorio “Hermanos Cuenca”\, Calle Pinar de San Rafael\, s/n\, Puente Genil\, Córdoba\, 14500\, España
CATEGORIES:Circo
ATTACH;FMTTYPE=image/jpeg:https://visitpuentegenil.es/wp-content/uploads/2021/06/26-cartel_cirkomania.jpg
END:VEVENT
END:VCALENDAR